BEGIN:VCALENDAR
VERSION:2.0
PRODID:-//Mullaloo Beach Primary School - ECPv6.15.17//NONSGML v1.0//EN
CALSCALE:GREGORIAN
METHOD:PUBLISH
X-WR-CALNAME:Mullaloo Beach Primary School
X-ORIGINAL-URL:https://mullaloobeachps.wa.edu.au
X-WR-CALDESC:Events for Mullaloo Beach Primary School
REFRESH-INTERVAL;VALUE=DURATION:PT1H
X-Robots-Tag:noindex
X-PUBLISHED-TTL:PT1H
BEGIN:VTIMEZONE
TZID:Australia/Perth
BEGIN:STANDARD
TZOFFSETFROM:+0800
TZOFFSETTO:+0800
TZNAME:AWST
DTSTART:20250101T000000
END:STANDARD
END:VTIMEZONE
BEGIN:VEVENT
DTSTART;VALUE=DATE:20260302
DTEND;VALUE=DATE:20260303
DTSTAMP:20260421T011640
CREATED:20251013T055145Z
LAST-MODIFIED:20251013T055145Z
UID:4754-1772409600-1772495999@mullaloobeachps.wa.edu.au
SUMMARY:Labour Day Public Holiday (students do not attend)
DESCRIPTION:
URL:https://mullaloobeachps.wa.edu.au/calendar/labour-day-public-holiday-students-do-not-attend/
CATEGORIES:School Holiday dates
END:VEVENT
BEGIN:VEVENT
DTSTART;VALUE=DATE:20260303
DTEND;VALUE=DATE:20260305
DTSTAMP:20260421T011640
CREATED:20251215T050529Z
LAST-MODIFIED:20251215T050529Z
UID:4918-1772496000-1772668799@mullaloobeachps.wa.edu.au
SUMMARY:Kindy Blue days
DESCRIPTION:
URL:https://mullaloobeachps.wa.edu.au/calendar/kindy-blue-days-5/
CATEGORIES:Kindy Blue
END:VEVENT
BEGIN:VEVENT
DTSTART;VALUE=DATE:20260305
DTEND;VALUE=DATE:20260307
DTSTAMP:20260421T011640
CREATED:20251218T023947Z
LAST-MODIFIED:20251218T023947Z
UID:5069-1772668800-1772841599@mullaloobeachps.wa.edu.au
SUMMARY:Kindy Yellow days
DESCRIPTION:
URL:https://mullaloobeachps.wa.edu.au/calendar/kindy-yellow-days-40/
CATEGORIES:Kindy Yellow
END:VEVENT
BEGIN:VEVENT
DTSTART;VALUE=DATE:20260309
DTEND;VALUE=DATE:20260311
DTSTAMP:20260421T011640
CREATED:20251215T050553Z
LAST-MODIFIED:20251215T050553Z
UID:4920-1773014400-1773187199@mullaloobeachps.wa.edu.au
SUMMARY:Kindy Blue days
DESCRIPTION:
URL:https://mullaloobeachps.wa.edu.au/calendar/kindy-blue-days-6/
CATEGORIES:Kindy Blue
END:VEVENT
BEGIN:VEVENT
DTSTART;VALUE=DATE:20260309
DTEND;VALUE=DATE:20260314
DTSTAMP:20260421T011640
CREATED:20260203T030055Z
LAST-MODIFIED:20260203T030055Z
UID:5100-1773014400-1773446399@mullaloobeachps.wa.edu.au
SUMMARY:NAPLAN Y3 & Y5
DESCRIPTION:
URL:https://mullaloobeachps.wa.edu.au/calendar/naplan-y3-y5/
CATEGORIES:Special Events
END:VEVENT
BEGIN:VEVENT
DTSTART;VALUE=DATE:20260311
DTEND;VALUE=DATE:20260314
DTSTAMP:20260421T011640
CREATED:20251218T015957Z
LAST-MODIFIED:20251218T015957Z
UID:5019-1773187200-1773446399@mullaloobeachps.wa.edu.au
SUMMARY:Kindy Yellow days
DESCRIPTION:
URL:https://mullaloobeachps.wa.edu.au/calendar/kindy-yellow-days-15/
CATEGORIES:Kindy Yellow
END:VEVENT
BEGIN:VEVENT
DTSTART;VALUE=DATE:20260316
DTEND;VALUE=DATE:20260319
DTSTAMP:20260421T011640
CREATED:20251215T050632Z
LAST-MODIFIED:20251215T050632Z
UID:4922-1773619200-1773878399@mullaloobeachps.wa.edu.au
SUMMARY:Kindy Blue days
DESCRIPTION:
URL:https://mullaloobeachps.wa.edu.au/calendar/kindy-blue-days-7/
CATEGORIES:Kindy Blue
END:VEVENT
BEGIN:VEVENT
DTSTART;VALUE=DATE:20260316
DTEND;VALUE=DATE:20260321
DTSTAMP:20260421T011640
CREATED:20260203T032112Z
LAST-MODIFIED:20260203T032112Z
UID:5107-1773619200-1774051199@mullaloobeachps.wa.edu.au
SUMMARY:Harmony Week
DESCRIPTION:
URL:https://mullaloobeachps.wa.edu.au/calendar/harmony-week/
CATEGORIES:Special Days
END:VEVENT
BEGIN:VEVENT
DTSTART;VALUE=DATE:20260316
DTEND;VALUE=DATE:20260321
DTSTAMP:20260421T011640
CREATED:20260203T032316Z
LAST-MODIFIED:20260203T032316Z
UID:5111-1773619200-1774051199@mullaloobeachps.wa.edu.au
SUMMARY:NAPLAN Y3 & Y5
DESCRIPTION:
URL:https://mullaloobeachps.wa.edu.au/calendar/naplan-y3-y5-2/
CATEGORIES:Special Events
END:VEVENT
BEGIN:VEVENT
DTSTART;VALUE=DATE:20260319
DTEND;VALUE=DATE:20260321
DTSTAMP:20260421T011640
CREATED:20251218T020307Z
LAST-MODIFIED:20251218T020307Z
UID:5021-1773878400-1774051199@mullaloobeachps.wa.edu.au
SUMMARY:Kindy Yellow days
DESCRIPTION:
URL:https://mullaloobeachps.wa.edu.au/calendar/kindy-yellow-days-16/
CATEGORIES:Kindy Yellow
END:VEVENT
BEGIN:VEVENT
DTSTART;VALUE=DATE:20260323
DTEND;VALUE=DATE:20260325
DTSTAMP:20260421T011640
CREATED:20251215T050655Z
LAST-MODIFIED:20251215T050655Z
UID:4924-1774224000-1774396799@mullaloobeachps.wa.edu.au
SUMMARY:Kindy Blue days
DESCRIPTION:
URL:https://mullaloobeachps.wa.edu.au/calendar/kindy-blue-days-8/
CATEGORIES:Kindy Blue
END:VEVENT
BEGIN:VEVENT
DTSTART;VALUE=DATE:20260325
DTEND;VALUE=DATE:20260328
DTSTAMP:20260421T011640
CREATED:20251218T024010Z
LAST-MODIFIED:20251218T024010Z
UID:5071-1774396800-1774655999@mullaloobeachps.wa.edu.au
SUMMARY:Kindy Yellow days
DESCRIPTION:
URL:https://mullaloobeachps.wa.edu.au/calendar/kindy-yellow-days-41/
CATEGORIES:Kindy Yellow
END:VEVENT
BEGIN:VEVENT
DTSTART;VALUE=DATE:20260327
DTEND;VALUE=DATE:20260328
DTSTAMP:20260421T011640
CREATED:20260203T032042Z
LAST-MODIFIED:20260203T032042Z
UID:5105-1774569600-1774655999@mullaloobeachps.wa.edu.au
SUMMARY:Assembly
DESCRIPTION:
URL:https://mullaloobeachps.wa.edu.au/calendar/assembly-8/
CATEGORIES:Assembly
END:VEVENT
BEGIN:VEVENT
DTSTART;VALUE=DATE:20260330
DTEND;VALUE=DATE:20260331
DTSTAMP:20260421T011640
CREATED:20251215T050928Z
LAST-MODIFIED:20260309T055636Z
UID:4927-1774828800-1774915199@mullaloobeachps.wa.edu.au
SUMMARY:Kindy Blue days
DESCRIPTION:
URL:https://mullaloobeachps.wa.edu.au/calendar/kindy-blue-days-9/
CATEGORIES:Kindy Blue
END:VEVENT
BEGIN:VEVENT
DTSTART;VALUE=DATE:20260331
DTEND;VALUE=DATE:20260401
DTSTAMP:20260421T011640
CREATED:20260309T055736Z
LAST-MODIFIED:20260309T055741Z
UID:5159-1774915200-1775001599@mullaloobeachps.wa.edu.au
SUMMARY:Parent Teacher Interview Day - Students do not attend
DESCRIPTION:
URL:https://mullaloobeachps.wa.edu.au/calendar/parent-teacher-interview-day-students-do-not-attend/
CATEGORIES:School Events
END:VEVENT
END:VCALENDAR