BEGIN:VCALENDAR
VERSION:2.0
PRODID:-//Mullaloo Beach Primary School - ECPv6.15.17//NONSGML v1.0//EN
CALSCALE:GREGORIAN
METHOD:PUBLISH
X-WR-CALNAME:Mullaloo Beach Primary School
X-ORIGINAL-URL:https://mullaloobeachps.wa.edu.au
X-WR-CALDESC:Events for Mullaloo Beach Primary School
REFRESH-INTERVAL;VALUE=DURATION:PT1H
X-Robots-Tag:noindex
X-PUBLISHED-TTL:PT1H
BEGIN:VTIMEZONE
TZID:Australia/Perth
BEGIN:STANDARD
TZOFFSETFROM:+0800
TZOFFSETTO:+0800
TZNAME:AWST
DTSTART:20250101T000000
END:STANDARD
END:VTIMEZONE
BEGIN:VEVENT
DTSTART;VALUE=DATE:20260914
DTEND;VALUE=DATE:20260917
DTSTAMP:20260423T065343
CREATED:20251215T052921Z
LAST-MODIFIED:20251215T052921Z
UID:4967-1789344000-1789603199@mullaloobeachps.wa.edu.au
SUMMARY:Kindy Blue days
DESCRIPTION:
URL:https://mullaloobeachps.wa.edu.au/calendar/kindy-blue-days-29/
CATEGORIES:Kindy Blue
END:VEVENT
BEGIN:VEVENT
DTSTART;VALUE=DATE:20260916
DTEND;VALUE=DATE:20260919
DTSTAMP:20260423T065343
CREATED:20260209T031150Z
LAST-MODIFIED:20260209T031150Z
UID:5154-1789516800-1789775999@mullaloobeachps.wa.edu.au
SUMMARY:Yr 6 Camp
DESCRIPTION:
URL:https://mullaloobeachps.wa.edu.au/calendar/yr-6-camp-2/
CATEGORIES:Year 6
END:VEVENT
BEGIN:VEVENT
DTSTART;VALUE=DATE:20260917
DTEND;VALUE=DATE:20260919
DTSTAMP:20260423T065343
CREATED:20251218T015300Z
LAST-MODIFIED:20251218T023851Z
UID:5015-1789603200-1789775999@mullaloobeachps.wa.edu.au
SUMMARY:Kindy Yellow days
DESCRIPTION:
URL:https://mullaloobeachps.wa.edu.au/calendar/kindy-yellow-days-13/
CATEGORIES:Kindy Yellow
END:VEVENT
BEGIN:VEVENT
DTSTART;VALUE=DATE:20260918
DTEND;VALUE=DATE:20260919
DTSTAMP:20260423T065343
CREATED:20260204T043104Z
LAST-MODIFIED:20260204T043104Z
UID:5140-1789689600-1789775999@mullaloobeachps.wa.edu.au
SUMMARY:Yr1 Rm2 Assembly
DESCRIPTION:
URL:https://mullaloobeachps.wa.edu.au/calendar/yr1-rm2-assembly/
CATEGORIES:Assembly
END:VEVENT
BEGIN:VEVENT
DTSTART;VALUE=DATE:20260921
DTEND;VALUE=DATE:20260923
DTSTAMP:20260423T065343
CREATED:20251215T053000Z
LAST-MODIFIED:20251215T075709Z
UID:4969-1789948800-1790121599@mullaloobeachps.wa.edu.au
SUMMARY:Kindy Blue days
DESCRIPTION:
URL:https://mullaloobeachps.wa.edu.au/calendar/kindy-blue-days-30/
CATEGORIES:Kindy Blue
END:VEVENT
BEGIN:VEVENT
DTSTART;VALUE=DATE:20260923
DTEND;VALUE=DATE:20260926
DTSTAMP:20260423T065343
CREATED:20251218T015347Z
LAST-MODIFIED:20251218T015347Z
UID:5017-1790121600-1790380799@mullaloobeachps.wa.edu.au
SUMMARY:Kindy Yellow days
DESCRIPTION:
URL:https://mullaloobeachps.wa.edu.au/calendar/kindy-yellow-days-14/
CATEGORIES:Kindy Yellow
END:VEVENT
BEGIN:VEVENT
DTSTART;VALUE=DATE:20260925
DTEND;VALUE=DATE:20260926
DTSTAMP:20260423T065343
CREATED:20251013T061405Z
LAST-MODIFIED:20251013T061405Z
UID:4776-1790294400-1790380799@mullaloobeachps.wa.edu.au
SUMMARY:Last day of Term 3
DESCRIPTION:
URL:https://mullaloobeachps.wa.edu.au/calendar/last-day-of-term-3-2/
CATEGORIES:Term Dates
END:VEVENT
BEGIN:VEVENT
DTSTART;TZID=Australia/Perth:20260926T080000
DTEND;TZID=Australia/Perth:20261011T170000
DTSTAMP:20260423T065343
CREATED:20251013T061119Z
LAST-MODIFIED:20251013T061119Z
UID:4766-1790409600-1791738000@mullaloobeachps.wa.edu.au
SUMMARY:School Holidays
DESCRIPTION:
URL:https://mullaloobeachps.wa.edu.au/calendar/school-holidays-8/
CATEGORIES:School Holiday dates
END:VEVENT
BEGIN:VEVENT
DTSTART;VALUE=DATE:20261012
DTEND;VALUE=DATE:20261013
DTSTAMP:20260423T065343
CREATED:20251111T071341Z
LAST-MODIFIED:20251111T071341Z
UID:4862-1791763200-1791849599@mullaloobeachps.wa.edu.au
SUMMARY:Professional Development Day – Students do not attend school today
DESCRIPTION:
URL:https://mullaloobeachps.wa.edu.au/calendar/professional-development-day-students-do-not-attend-school-today-11/
CATEGORIES:PD Days
END:VEVENT
BEGIN:VEVENT
DTSTART;VALUE=DATE:20261013
DTEND;VALUE=DATE:20261014
DTSTAMP:20260423T065343
CREATED:20251013T061333Z
LAST-MODIFIED:20251013T061333Z
UID:4774-1791849600-1791935999@mullaloobeachps.wa.edu.au
SUMMARY:First day Term 4
DESCRIPTION:
URL:https://mullaloobeachps.wa.edu.au/calendar/first-day-term-4/
CATEGORIES:Term Dates
END:VEVENT
BEGIN:VEVENT
DTSTART;VALUE=DATE:20261013
DTEND;VALUE=DATE:20261015
DTSTAMP:20260423T065343
CREATED:20251215T053648Z
LAST-MODIFIED:20251215T053648Z
UID:4971-1791849600-1792022399@mullaloobeachps.wa.edu.au
SUMMARY:Kindy Blue days
DESCRIPTION:
URL:https://mullaloobeachps.wa.edu.au/calendar/kindy-blue-days-31/
CATEGORIES:Kindy Blue
END:VEVENT
BEGIN:VEVENT
DTSTART;VALUE=DATE:20261015
DTEND;VALUE=DATE:20261017
DTSTAMP:20260423T065343
CREATED:20251218T022940Z
LAST-MODIFIED:20251218T022940Z
UID:5049-1792022400-1792195199@mullaloobeachps.wa.edu.au
SUMMARY:Kindy Yellow days
DESCRIPTION:
URL:https://mullaloobeachps.wa.edu.au/calendar/kindy-yellow-days-30/
CATEGORIES:Kindy Yellow
END:VEVENT
BEGIN:VEVENT
DTSTART;VALUE=DATE:20261019
DTEND;VALUE=DATE:20261021
DTSTAMP:20260423T065343
CREATED:20251215T053714Z
LAST-MODIFIED:20251215T053714Z
UID:4973-1792368000-1792540799@mullaloobeachps.wa.edu.au
SUMMARY:Kindy Blue days
DESCRIPTION:
URL:https://mullaloobeachps.wa.edu.au/calendar/kindy-blue-days-32/
CATEGORIES:Kindy Blue
END:VEVENT
BEGIN:VEVENT
DTSTART;VALUE=DATE:20261021
DTEND;VALUE=DATE:20261024
DTSTAMP:20260423T065343
CREATED:20251218T023000Z
LAST-MODIFIED:20251218T023000Z
UID:5051-1792540800-1792799999@mullaloobeachps.wa.edu.au
SUMMARY:Kindy Yellow days
DESCRIPTION:
URL:https://mullaloobeachps.wa.edu.au/calendar/kindy-yellow-days-31/
CATEGORIES:Kindy Yellow
END:VEVENT
BEGIN:VEVENT
DTSTART;VALUE=DATE:20261026
DTEND;VALUE=DATE:20261029
DTSTAMP:20260423T065343
CREATED:20251215T053737Z
LAST-MODIFIED:20251215T053737Z
UID:4975-1792972800-1793231999@mullaloobeachps.wa.edu.au
SUMMARY:Kindy Blue days
DESCRIPTION:
URL:https://mullaloobeachps.wa.edu.au/calendar/kindy-blue-days-33/
CATEGORIES:Kindy Blue
END:VEVENT
BEGIN:VEVENT
DTSTART;VALUE=DATE:20261029
DTEND;VALUE=DATE:20261031
DTSTAMP:20260423T065343
CREATED:20251218T023028Z
LAST-MODIFIED:20251218T023028Z
UID:5053-1793232000-1793404799@mullaloobeachps.wa.edu.au
SUMMARY:Kindy Yellow days
DESCRIPTION:
URL:https://mullaloobeachps.wa.edu.au/calendar/kindy-yellow-days-32/
CATEGORIES:Kindy Yellow
END:VEVENT
BEGIN:VEVENT
DTSTART;VALUE=DATE:20261030
DTEND;VALUE=DATE:20261031
DTSTAMP:20260423T065343
CREATED:20260204T043129Z
LAST-MODIFIED:20260204T043129Z
UID:5142-1793318400-1793404799@mullaloobeachps.wa.edu.au
SUMMARY:Yr5 Rm8 Assembly
DESCRIPTION:
URL:https://mullaloobeachps.wa.edu.au/calendar/yr5-rm8-assembly/
CATEGORIES:Assembly
END:VEVENT
BEGIN:VEVENT
DTSTART;VALUE=DATE:20261102
DTEND;VALUE=DATE:20261104
DTSTAMP:20260423T065343
CREATED:20251215T053757Z
LAST-MODIFIED:20251215T053757Z
UID:4977-1793577600-1793750399@mullaloobeachps.wa.edu.au
SUMMARY:Kindy Blue days
DESCRIPTION:
URL:https://mullaloobeachps.wa.edu.au/calendar/kindy-blue-days-34/
CATEGORIES:Kindy Blue
END:VEVENT
BEGIN:VEVENT
DTSTART;VALUE=DATE:20261104
DTEND;VALUE=DATE:20261107
DTSTAMP:20260423T065343
CREATED:20251218T023148Z
LAST-MODIFIED:20251218T023148Z
UID:5055-1793750400-1794009599@mullaloobeachps.wa.edu.au
SUMMARY:Kindy Yellow days
DESCRIPTION:
URL:https://mullaloobeachps.wa.edu.au/calendar/kindy-yellow-days-33/
CATEGORIES:Kindy Yellow
END:VEVENT
BEGIN:VEVENT
DTSTART;VALUE=DATE:20261106
DTEND;VALUE=DATE:20261107
DTSTAMP:20260423T065343
CREATED:20260204T043150Z
LAST-MODIFIED:20260204T043150Z
UID:5144-1793923200-1794009599@mullaloobeachps.wa.edu.au
SUMMARY:Yr4 R11 Assembly
DESCRIPTION:
URL:https://mullaloobeachps.wa.edu.au/calendar/yr4-r11-assembly/
CATEGORIES:Assembly
END:VEVENT
BEGIN:VEVENT
DTSTART;VALUE=DATE:20261109
DTEND;VALUE=DATE:20261112
DTSTAMP:20260423T065343
CREATED:20251215T055536Z
LAST-MODIFIED:20251215T055536Z
UID:4979-1794182400-1794441599@mullaloobeachps.wa.edu.au
SUMMARY:Kindy Blue days
DESCRIPTION:
URL:https://mullaloobeachps.wa.edu.au/calendar/kindy-blue-days-35/
CATEGORIES:Kindy Blue
END:VEVENT
BEGIN:VEVENT
DTSTART;VALUE=DATE:20261112
DTEND;VALUE=DATE:20261114
DTSTAMP:20260423T065343
CREATED:20251218T023213Z
LAST-MODIFIED:20251218T023213Z
UID:5057-1794441600-1794614399@mullaloobeachps.wa.edu.au
SUMMARY:Kindy Yellow days
DESCRIPTION:
URL:https://mullaloobeachps.wa.edu.au/calendar/kindy-yellow-days-34/
CATEGORIES:Kindy Yellow
END:VEVENT
BEGIN:VEVENT
DTSTART;VALUE=DATE:20261116
DTEND;VALUE=DATE:20261118
DTSTAMP:20260423T065343
CREATED:20251215T055607Z
LAST-MODIFIED:20251215T055607Z
UID:4981-1794787200-1794959999@mullaloobeachps.wa.edu.au
SUMMARY:Kindy Blue days
DESCRIPTION:
URL:https://mullaloobeachps.wa.edu.au/calendar/kindy-blue-days-36/
CATEGORIES:Kindy Blue
END:VEVENT
BEGIN:VEVENT
DTSTART;VALUE=DATE:20261118
DTEND;VALUE=DATE:20261121
DTSTAMP:20260423T065343
CREATED:20251218T023237Z
LAST-MODIFIED:20251218T023237Z
UID:5059-1794960000-1795219199@mullaloobeachps.wa.edu.au
SUMMARY:Kindy Yellow days
DESCRIPTION:
URL:https://mullaloobeachps.wa.edu.au/calendar/kindy-yellow-days-35/
CATEGORIES:Kindy Yellow
END:VEVENT
BEGIN:VEVENT
DTSTART;VALUE=DATE:20261120
DTEND;VALUE=DATE:20261121
DTSTAMP:20260423T065343
CREATED:20260204T043216Z
LAST-MODIFIED:20260204T043216Z
UID:5146-1795132800-1795219199@mullaloobeachps.wa.edu.au
SUMMARY:PP1 and PP2 Assembly
DESCRIPTION:
URL:https://mullaloobeachps.wa.edu.au/calendar/pp1-and-pp2-assembly/
CATEGORIES:Assembly
END:VEVENT
BEGIN:VEVENT
DTSTART;VALUE=DATE:20261123
DTEND;VALUE=DATE:20261126
DTSTAMP:20260423T065343
CREATED:20251215T055633Z
LAST-MODIFIED:20251215T055633Z
UID:4983-1795392000-1795651199@mullaloobeachps.wa.edu.au
SUMMARY:Kindy Blue days
DESCRIPTION:
URL:https://mullaloobeachps.wa.edu.au/calendar/kindy-blue-days-37/
CATEGORIES:Kindy Blue
END:VEVENT
BEGIN:VEVENT
DTSTART;VALUE=DATE:20261123
DTEND;VALUE=DATE:20261128
DTSTAMP:20260423T065343
CREATED:20251202T071834Z
LAST-MODIFIED:20251202T071834Z
UID:4880-1795392000-1795823999@mullaloobeachps.wa.edu.au
SUMMARY:Swimming Y5\,Y6
DESCRIPTION:
URL:https://mullaloobeachps.wa.edu.au/calendar/swimming-y5y6/
CATEGORIES:School Events
END:VEVENT
BEGIN:VEVENT
DTSTART;VALUE=DATE:20261126
DTEND;VALUE=DATE:20261128
DTSTAMP:20260423T065343
CREATED:20251218T023257Z
LAST-MODIFIED:20251218T023257Z
UID:5061-1795651200-1795823999@mullaloobeachps.wa.edu.au
SUMMARY:Kindy Yellow days
DESCRIPTION:
URL:https://mullaloobeachps.wa.edu.au/calendar/kindy-yellow-days-36/
CATEGORIES:Kindy Yellow
END:VEVENT
BEGIN:VEVENT
DTSTART;VALUE=DATE:20261130
DTEND;VALUE=DATE:20261202
DTSTAMP:20260423T065343
CREATED:20251215T055657Z
LAST-MODIFIED:20251215T055657Z
UID:4985-1795996800-1796169599@mullaloobeachps.wa.edu.au
SUMMARY:Kindy Blue days
DESCRIPTION:
URL:https://mullaloobeachps.wa.edu.au/calendar/kindy-blue-days-38/
CATEGORIES:Kindy Blue
END:VEVENT
BEGIN:VEVENT
DTSTART;VALUE=DATE:20261130
DTEND;VALUE=DATE:20261205
DTSTAMP:20260423T065343
CREATED:20251202T071911Z
LAST-MODIFIED:20251202T071911Z
UID:4882-1795996800-1796428799@mullaloobeachps.wa.edu.au
SUMMARY:Swimming Y5\,Y6
DESCRIPTION:
URL:https://mullaloobeachps.wa.edu.au/calendar/swimming-y5y6-2/
CATEGORIES:School Events
END:VEVENT
END:VCALENDAR