BEGIN:VCALENDAR
VERSION:2.0
PRODID:-//Mullaloo Beach Primary School - ECPv6.15.17//NONSGML v1.0//EN
CALSCALE:GREGORIAN
METHOD:PUBLISH
X-WR-CALNAME:Mullaloo Beach Primary School
X-ORIGINAL-URL:https://mullaloobeachps.wa.edu.au
X-WR-CALDESC:Events for Mullaloo Beach Primary School
REFRESH-INTERVAL;VALUE=DURATION:PT1H
X-Robots-Tag:noindex
X-PUBLISHED-TTL:PT1H
BEGIN:VTIMEZONE
TZID:Australia/Perth
BEGIN:STANDARD
TZOFFSETFROM:+0800
TZOFFSETTO:+0800
TZNAME:AWST
DTSTART:20240101T000000
END:STANDARD
END:VTIMEZONE
BEGIN:VEVENT
DTSTART;VALUE=DATE:20250523
DTEND;VALUE=DATE:20250524
DTSTAMP:20260420T144424
CREATED:20250204T073450Z
LAST-MODIFIED:20250218T080246Z
UID:4081-1747958400-1748044799@mullaloobeachps.wa.edu.au
SUMMARY:Assembly Yr 2 Rm 4
DESCRIPTION:
URL:https://mullaloobeachps.wa.edu.au/calendar/assembly-6/
CATEGORIES:Assembly
END:VEVENT
BEGIN:VEVENT
DTSTART;VALUE=DATE:20250523
DTEND;VALUE=DATE:20250524
DTSTAMP:20260420T144424
CREATED:20250509T035859Z
LAST-MODIFIED:20250509T035859Z
UID:4415-1747958400-1748044799@mullaloobeachps.wa.edu.au
SUMMARY:P&C Day 10.30am Morning Tea
DESCRIPTION:
URL:https://mullaloobeachps.wa.edu.au/calendar/pc-day-10-30am-morning-tea/
CATEGORIES:P&C and Board Meetings
END:VEVENT
BEGIN:VEVENT
DTSTART;VALUE=DATE:20250526
DTEND;VALUE=DATE:20250529
DTSTAMP:20260420T144424
CREATED:20241024T043912Z
LAST-MODIFIED:20241024T043912Z
UID:3774-1748217600-1748476799@mullaloobeachps.wa.edu.au
SUMMARY:Kindy Days
DESCRIPTION:
URL:https://mullaloobeachps.wa.edu.au/calendar/kindy-days-15/
CATEGORIES:Kindy Blue
END:VEVENT
BEGIN:VEVENT
DTSTART;VALUE=DATE:20250527
DTEND;VALUE=DATE:20250528
DTSTAMP:20260420T144424
CREATED:20250430T031258Z
LAST-MODIFIED:20250430T031258Z
UID:4379-1748304000-1748390399@mullaloobeachps.wa.edu.au
SUMMARY:Choir 0815am
DESCRIPTION:
URL:https://mullaloobeachps.wa.edu.au/calendar/choir-0815am-4/
CATEGORIES:School Events
END:VEVENT
BEGIN:VEVENT
DTSTART;VALUE=DATE:20250529
DTEND;VALUE=DATE:20250530
DTSTAMP:20260420T144424
CREATED:20250429T033900Z
LAST-MODIFIED:20250505T050244Z
UID:4356-1748476800-1748563199@mullaloobeachps.wa.edu.au
SUMMARY:Running Club 7:30am-8:30am
DESCRIPTION:
URL:https://mullaloobeachps.wa.edu.au/calendar/running-club-4/
CATEGORIES:School Events
END:VEVENT
BEGIN:VEVENT
DTSTART;VALUE=DATE:20250530
DTEND;VALUE=DATE:20250531
DTSTAMP:20260420T144424
CREATED:20241024T042412Z
LAST-MODIFIED:20241024T042412Z
UID:3736-1748563200-1748649599@mullaloobeachps.wa.edu.au
SUMMARY:Professional Development Day – Students do not attend school today
DESCRIPTION:
URL:https://mullaloobeachps.wa.edu.au/calendar/professional-development-day-students-do-not-attend-school-today-4/
CATEGORIES:PD Days
END:VEVENT
BEGIN:VEVENT
DTSTART;VALUE=DATE:20250602
DTEND;VALUE=DATE:20250603
DTSTAMP:20260420T144424
CREATED:20241024T042710Z
LAST-MODIFIED:20250204T075559Z
UID:3744-1748822400-1748908799@mullaloobeachps.wa.edu.au
SUMMARY:Public Holiday - Students do not attend school today
DESCRIPTION:
URL:https://mullaloobeachps.wa.edu.au/calendar/public-holiday-students-do-not-attend-school-today-2/
CATEGORIES:School Holiday dates
END:VEVENT
BEGIN:VEVENT
DTSTART;VALUE=DATE:20250603
DTEND;VALUE=DATE:20250604
DTSTAMP:20260420T144424
CREATED:20241024T043936Z
LAST-MODIFIED:20241024T043936Z
UID:3776-1748908800-1748995199@mullaloobeachps.wa.edu.au
SUMMARY:Kindy Days
DESCRIPTION:
URL:https://mullaloobeachps.wa.edu.au/calendar/kindy-days-16/
CATEGORIES:Kindy Blue
END:VEVENT
BEGIN:VEVENT
DTSTART;VALUE=DATE:20250603
DTEND;VALUE=DATE:20250604
DTSTAMP:20260420T144424
CREATED:20250320T051019Z
LAST-MODIFIED:20250430T075811Z
UID:4260-1748908800-1748995199@mullaloobeachps.wa.edu.au
SUMMARY:Philip Green Incursion PP-Y6
DESCRIPTION:https://mullaloobeachps.wa.edu.au/wp-content/uploads/2025/04/Philip-Green-INCURSION-NOTE.pdf
URL:https://mullaloobeachps.wa.edu.au/calendar/philip-green-incursion/
CATEGORIES:Special Days
END:VEVENT
BEGIN:VEVENT
DTSTART;VALUE=DATE:20250603
DTEND;VALUE=DATE:20250604
DTSTAMP:20260420T144424
CREATED:20250430T031322Z
LAST-MODIFIED:20250430T031322Z
UID:4381-1748908800-1748995199@mullaloobeachps.wa.edu.au
SUMMARY:Choir 0815am
DESCRIPTION:
URL:https://mullaloobeachps.wa.edu.au/calendar/choir-0815am-5/
CATEGORIES:School Events
END:VEVENT
BEGIN:VEVENT
DTSTART;VALUE=DATE:20250605
DTEND;VALUE=DATE:20250606
DTSTAMP:20260420T144424
CREATED:20250429T033928Z
LAST-MODIFIED:20250505T050403Z
UID:4358-1749081600-1749167999@mullaloobeachps.wa.edu.au
SUMMARY:Running Club 7:30am-8:30am
DESCRIPTION:
URL:https://mullaloobeachps.wa.edu.au/calendar/running-club-5/
CATEGORIES:School Events
END:VEVENT
BEGIN:VEVENT
DTSTART;VALUE=DATE:20250605
DTEND;VALUE=DATE:20250606
DTSTAMP:20260420T144424
CREATED:20250428T075148Z
LAST-MODIFIED:20250501T074748Z
UID:4333-1749081600-1749167999@mullaloobeachps.wa.edu.au
SUMMARY:Yr 5/6 WA Museum Boola Bardip Excursion
DESCRIPTION:WA Museum Excursion Letter
URL:https://mullaloobeachps.wa.edu.au/calendar/yr-5-6-wa-museum-boola-bardip/
CATEGORIES:Special Days
END:VEVENT
BEGIN:VEVENT
DTSTART;VALUE=DATE:20250606
DTEND;VALUE=DATE:20250607
DTSTAMP:20260420T144424
CREATED:20250204T073551Z
LAST-MODIFIED:20250218T080448Z
UID:4083-1749168000-1749254399@mullaloobeachps.wa.edu.au
SUMMARY:Assembly Yr 3 Rm 6
DESCRIPTION:
URL:https://mullaloobeachps.wa.edu.au/calendar/assembly-7/
CATEGORIES:Assembly
END:VEVENT
BEGIN:VEVENT
DTSTART;VALUE=DATE:20250609
DTEND;VALUE=DATE:20250612
DTSTAMP:20260420T144424
CREATED:20241024T044003Z
LAST-MODIFIED:20241024T044003Z
UID:3778-1749427200-1749686399@mullaloobeachps.wa.edu.au
SUMMARY:Kindy Days
DESCRIPTION:
URL:https://mullaloobeachps.wa.edu.au/calendar/kindy-days-17/
CATEGORIES:Kindy Blue
END:VEVENT
BEGIN:VEVENT
DTSTART;VALUE=DATE:20250609
DTEND;VALUE=DATE:20250614
DTSTAMP:20260420T144424
CREATED:20250204T075301Z
LAST-MODIFIED:20250514T061526Z
UID:4095-1749427200-1749859199@mullaloobeachps.wa.edu.au
SUMMARY:Swimming PP-Y4
DESCRIPTION:Swimming PP-Yr4 term 2
URL:https://mullaloobeachps.wa.edu.au/calendar/swimming-pp-y4/
CATEGORIES:Special Days
END:VEVENT
BEGIN:VEVENT
DTSTART;VALUE=DATE:20250610
DTEND;VALUE=DATE:20250611
DTSTAMP:20260420T144424
CREATED:20250430T031345Z
LAST-MODIFIED:20250430T031345Z
UID:4383-1749513600-1749599999@mullaloobeachps.wa.edu.au
SUMMARY:Choir 0815am
DESCRIPTION:
URL:https://mullaloobeachps.wa.edu.au/calendar/choir-0815am-6/
CATEGORIES:School Events
END:VEVENT
BEGIN:VEVENT
DTSTART;VALUE=DATE:20250612
DTEND;VALUE=DATE:20250613
DTSTAMP:20260420T144424
CREATED:20250429T033956Z
LAST-MODIFIED:20250505T050438Z
UID:4360-1749686400-1749772799@mullaloobeachps.wa.edu.au
SUMMARY:Running Club 7:30am-8:30am
DESCRIPTION:
URL:https://mullaloobeachps.wa.edu.au/calendar/running-club-6/
CATEGORIES:School Events
END:VEVENT
BEGIN:VEVENT
DTSTART;VALUE=DATE:20250616
DTEND;VALUE=DATE:20250618
DTSTAMP:20260420T144424
CREATED:20241024T044028Z
LAST-MODIFIED:20241024T044028Z
UID:3780-1750032000-1750204799@mullaloobeachps.wa.edu.au
SUMMARY:Kindy Days
DESCRIPTION:
URL:https://mullaloobeachps.wa.edu.au/calendar/kindy-days-18/
CATEGORIES:Kindy Blue
END:VEVENT
BEGIN:VEVENT
DTSTART;VALUE=DATE:20250616
DTEND;VALUE=DATE:20250621
DTSTAMP:20260420T144424
CREATED:20250204T075353Z
LAST-MODIFIED:20250514T061640Z
UID:4097-1750032000-1750463999@mullaloobeachps.wa.edu.au
SUMMARY:Swimming PP-Y4
DESCRIPTION:Swimming PP-Yr4 term 2
URL:https://mullaloobeachps.wa.edu.au/calendar/swimming-pp-y4-2/
CATEGORIES:Special Days
END:VEVENT
BEGIN:VEVENT
DTSTART;VALUE=DATE:20250617
DTEND;VALUE=DATE:20250618
DTSTAMP:20260420T144424
CREATED:20250430T031408Z
LAST-MODIFIED:20250430T031408Z
UID:4385-1750118400-1750204799@mullaloobeachps.wa.edu.au
SUMMARY:Choir 0815am
DESCRIPTION:
URL:https://mullaloobeachps.wa.edu.au/calendar/choir-0815am-7/
CATEGORIES:School Events
END:VEVENT
BEGIN:VEVENT
DTSTART;VALUE=DATE:20250619
DTEND;VALUE=DATE:20250620
DTSTAMP:20260420T144424
CREATED:20250429T034024Z
LAST-MODIFIED:20250505T050540Z
UID:4362-1750291200-1750377599@mullaloobeachps.wa.edu.au
SUMMARY:Running Club 7:30am-8:30am
DESCRIPTION:
URL:https://mullaloobeachps.wa.edu.au/calendar/running-club-7/
CATEGORIES:School Events
END:VEVENT
BEGIN:VEVENT
DTSTART;TZID=Australia/Perth:20250620T141500
DTEND;TZID=Australia/Perth:20250620T150000
DTSTAMP:20260420T144424
CREATED:20250328T063344Z
LAST-MODIFIED:20250516T055435Z
UID:4282-1750428900-1750431600@mullaloobeachps.wa.edu.au
SUMMARY:Afternoon Assembly Yr1 Rm1 2.15pm
DESCRIPTION:
URL:https://mullaloobeachps.wa.edu.au/calendar/assembly-yr1-rm1/
CATEGORIES:Assembly
END:VEVENT
BEGIN:VEVENT
DTSTART;VALUE=DATE:20250623
DTEND;VALUE=DATE:20250624
DTSTAMP:20260420T144424
CREATED:20250520T034751Z
LAST-MODIFIED:20250610T014942Z
UID:4435-1750636800-1750723199@mullaloobeachps.wa.edu.au
SUMMARY:Interschool Carnival - Kingsway
DESCRIPTION:Interschool note 23.6.25
URL:https://mullaloobeachps.wa.edu.au/calendar/interschool-carnival-kingsway/
CATEGORIES:Special Days
END:VEVENT
BEGIN:VEVENT
DTSTART;VALUE=DATE:20250623
DTEND;VALUE=DATE:20250626
DTSTAMP:20260420T144424
CREATED:20241024T044054Z
LAST-MODIFIED:20241024T044054Z
UID:3782-1750636800-1750895999@mullaloobeachps.wa.edu.au
SUMMARY:Kindy Days
DESCRIPTION:
URL:https://mullaloobeachps.wa.edu.au/calendar/kindy-days-19/
CATEGORIES:Kindy Blue
END:VEVENT
BEGIN:VEVENT
DTSTART;VALUE=DATE:20250624
DTEND;VALUE=DATE:20250625
DTSTAMP:20260420T144424
CREATED:20250430T031433Z
LAST-MODIFIED:20250430T031433Z
UID:4387-1750723200-1750809599@mullaloobeachps.wa.edu.au
SUMMARY:Choir 0815am
DESCRIPTION:
URL:https://mullaloobeachps.wa.edu.au/calendar/choir-0815am-8/
CATEGORIES:School Events
END:VEVENT
BEGIN:VEVENT
DTSTART;VALUE=DATE:20250624
DTEND;VALUE=DATE:20250625
DTSTAMP:20260420T144424
CREATED:20250430T031728Z
LAST-MODIFIED:20250508T031030Z
UID:4391-1750723200-1750809599@mullaloobeachps.wa.edu.au
SUMMARY:K/PP Remida Incursion
DESCRIPTION:Remida Incursion note – Kindy \nRemida Incursion note – PP
URL:https://mullaloobeachps.wa.edu.au/calendar/k-pp-remida-incursion/
CATEGORIES:Special Days
END:VEVENT
BEGIN:VEVENT
DTSTART;VALUE=DATE:20250626
DTEND;VALUE=DATE:20250627
DTSTAMP:20260420T144424
CREATED:20250429T034052Z
LAST-MODIFIED:20250505T050636Z
UID:4364-1750896000-1750982399@mullaloobeachps.wa.edu.au
SUMMARY:Running Club 7:30am-8:30am
DESCRIPTION:
URL:https://mullaloobeachps.wa.edu.au/calendar/running-club-8/
CATEGORIES:School Events
END:VEVENT
BEGIN:VEVENT
DTSTART;TZID=Australia/Perth:20250627T160000
DTEND;TZID=Australia/Perth:20250627T173000
DTSTAMP:20260420T144424
CREATED:20250604T001011Z
LAST-MODIFIED:20250604T001500Z
UID:4447-1751040000-1751045400@mullaloobeachps.wa.edu.au
SUMMARY:P&C Neon Silent Disco K-Y2
DESCRIPTION:
URL:https://mullaloobeachps.wa.edu.au/calendar/pc-neon-silent-disco-k-y2/
CATEGORIES:P&C and Board Meetings
END:VEVENT
BEGIN:VEVENT
DTSTART;TZID=Australia/Perth:20250627T180000
DTEND;TZID=Australia/Perth:20250627T193000
DTSTAMP:20260420T144424
CREATED:20250604T001417Z
LAST-MODIFIED:20250604T001417Z
UID:4452-1751047200-1751052600@mullaloobeachps.wa.edu.au
SUMMARY:P&C Neon Silent Disco Y3-Y6
DESCRIPTION:
URL:https://mullaloobeachps.wa.edu.au/calendar/pc-neon-silent-disco-y3-y6/
CATEGORIES:P&C and Board Meetings
END:VEVENT
BEGIN:VEVENT
DTSTART;VALUE=DATE:20250630
DTEND;VALUE=DATE:20250702
DTSTAMP:20260420T144424
CREATED:20241024T044128Z
LAST-MODIFIED:20241024T044128Z
UID:3784-1751241600-1751414399@mullaloobeachps.wa.edu.au
SUMMARY:Kindy Days
DESCRIPTION:
URL:https://mullaloobeachps.wa.edu.au/calendar/kindy-days-20/
CATEGORIES:Kindy Blue
END:VEVENT
END:VCALENDAR