BEGIN:VCALENDAR
VERSION:2.0
PRODID:-//Mullaloo Beach Primary School - ECPv6.15.17//NONSGML v1.0//EN
CALSCALE:GREGORIAN
METHOD:PUBLISH
X-ORIGINAL-URL:https://mullaloobeachps.wa.edu.au
X-WR-CALDESC:Events for Mullaloo Beach Primary School
REFRESH-INTERVAL;VALUE=DURATION:PT1H
X-Robots-Tag:noindex
X-PUBLISHED-TTL:PT1H
BEGIN:VTIMEZONE
TZID:Australia/Perth
BEGIN:STANDARD
TZOFFSETFROM:+0800
TZOFFSETTO:+0800
TZNAME:AWST
DTSTART:20250101T000000
END:STANDARD
END:VTIMEZONE
BEGIN:VEVENT
DTSTART;VALUE=DATE:20260518
DTEND;VALUE=DATE:20260520
DTSTAMP:20260422T082438
CREATED:20251215T051205Z
LAST-MODIFIED:20251215T051205Z
UID:4937-1779062400-1779235199@mullaloobeachps.wa.edu.au
SUMMARY:Kindy Blue days
DESCRIPTION:
URL:https://mullaloobeachps.wa.edu.au/calendar/kindy-blue-days-14/
CATEGORIES:Kindy Blue
END:VEVENT
BEGIN:VEVENT
DTSTART;VALUE=DATE:20260520
DTEND;VALUE=DATE:20260523
DTSTAMP:20260422T082438
CREATED:20251218T022611Z
LAST-MODIFIED:20251218T022611Z
UID:5035-1779235200-1779494399@mullaloobeachps.wa.edu.au
SUMMARY:Kindy Yellow days
DESCRIPTION:
URL:https://mullaloobeachps.wa.edu.au/calendar/kindy-yellow-days-23/
CATEGORIES:Kindy Yellow
END:VEVENT
BEGIN:VEVENT
DTSTART;VALUE=DATE:20260525
DTEND;VALUE=DATE:20260528
DTSTAMP:20260422T082438
CREATED:20251215T051229Z
LAST-MODIFIED:20251215T051229Z
UID:4939-1779667200-1779926399@mullaloobeachps.wa.edu.au
SUMMARY:Kindy Blue days
DESCRIPTION:
URL:https://mullaloobeachps.wa.edu.au/calendar/kindy-blue-days-15/
CATEGORIES:Kindy Blue
END:VEVENT
BEGIN:VEVENT
DTSTART;VALUE=DATE:20260528
DTEND;VALUE=DATE:20260529
DTSTAMP:20260422T082438
CREATED:20251218T022635Z
LAST-MODIFIED:20251218T022635Z
UID:5037-1779926400-1780012799@mullaloobeachps.wa.edu.au
SUMMARY:Kindy Yellow days
DESCRIPTION:
URL:https://mullaloobeachps.wa.edu.au/calendar/kindy-yellow-days-24/
CATEGORIES:Kindy Yellow
END:VEVENT
BEGIN:VEVENT
DTSTART;VALUE=DATE:20260529
DTEND;VALUE=DATE:20260530
DTSTAMP:20260422T082438
CREATED:20251111T071229Z
LAST-MODIFIED:20251111T071229Z
UID:4858-1780012800-1780099199@mullaloobeachps.wa.edu.au
SUMMARY:Professional Development Day – Students do not attend school today
DESCRIPTION:
URL:https://mullaloobeachps.wa.edu.au/calendar/professional-development-day-students-do-not-attend-school-today-9/
CATEGORIES:PD Days
END:VEVENT
BEGIN:VEVENT
DTSTART;VALUE=DATE:20260601
DTEND;VALUE=DATE:20260602
DTSTAMP:20260422T082438
CREATED:20251013T060934Z
LAST-MODIFIED:20251013T060934Z
UID:4760-1780272000-1780358399@mullaloobeachps.wa.edu.au
SUMMARY:WA Day Public Holiday (students do not attend)
DESCRIPTION:
URL:https://mullaloobeachps.wa.edu.au/calendar/wa-day-public-holiday-students-do-not-attend/
CATEGORIES:School Holiday dates
END:VEVENT
BEGIN:VEVENT
DTSTART;VALUE=DATE:20260602
DTEND;VALUE=DATE:20260603
DTSTAMP:20260422T082438
CREATED:20251215T051254Z
LAST-MODIFIED:20251215T051254Z
UID:4941-1780358400-1780444799@mullaloobeachps.wa.edu.au
SUMMARY:Kindy Blue days
DESCRIPTION:
URL:https://mullaloobeachps.wa.edu.au/calendar/kindy-blue-days-16/
CATEGORIES:Kindy Blue
END:VEVENT
BEGIN:VEVENT
DTSTART;VALUE=DATE:20260602
DTEND;VALUE=DATE:20260606
DTSTAMP:20260422T082438
CREATED:20251202T071710Z
LAST-MODIFIED:20251202T071710Z
UID:4876-1780358400-1780703999@mullaloobeachps.wa.edu.au
SUMMARY:Swimming PP-Y4
DESCRIPTION:
URL:https://mullaloobeachps.wa.edu.au/calendar/swimming-pp-y4-3/
CATEGORIES:School Events
END:VEVENT
BEGIN:VEVENT
DTSTART;VALUE=DATE:20260603
DTEND;VALUE=DATE:20260606
DTSTAMP:20260422T082438
CREATED:20251218T022702Z
LAST-MODIFIED:20251218T022702Z
UID:5039-1780444800-1780703999@mullaloobeachps.wa.edu.au
SUMMARY:Kindy Yellow days
DESCRIPTION:
URL:https://mullaloobeachps.wa.edu.au/calendar/kindy-yellow-days-25/
CATEGORIES:Kindy Yellow
END:VEVENT
BEGIN:VEVENT
DTSTART;VALUE=DATE:20260608
DTEND;VALUE=DATE:20260611
DTSTAMP:20260422T082438
CREATED:20251215T051317Z
LAST-MODIFIED:20251215T051317Z
UID:4943-1780876800-1781135999@mullaloobeachps.wa.edu.au
SUMMARY:Kindy Blue days
DESCRIPTION:
URL:https://mullaloobeachps.wa.edu.au/calendar/kindy-blue-days-17/
CATEGORIES:Kindy Blue
END:VEVENT
BEGIN:VEVENT
DTSTART;VALUE=DATE:20260608
DTEND;VALUE=DATE:20260613
DTSTAMP:20260422T082438
CREATED:20251202T071746Z
LAST-MODIFIED:20251202T071746Z
UID:4878-1780876800-1781308799@mullaloobeachps.wa.edu.au
SUMMARY:Swimming PP-Y4
DESCRIPTION:
URL:https://mullaloobeachps.wa.edu.au/calendar/swimming-pp-y4-4/
CATEGORIES:School Events
END:VEVENT
BEGIN:VEVENT
DTSTART;VALUE=DATE:20260611
DTEND;VALUE=DATE:20260613
DTSTAMP:20260422T082438
CREATED:20251218T022728Z
LAST-MODIFIED:20251218T022728Z
UID:5041-1781136000-1781308799@mullaloobeachps.wa.edu.au
SUMMARY:Kindy Yellow days
DESCRIPTION:
URL:https://mullaloobeachps.wa.edu.au/calendar/kindy-yellow-days-26/
CATEGORIES:Kindy Yellow
END:VEVENT
BEGIN:VEVENT
DTSTART;VALUE=DATE:20260612
DTEND;VALUE=DATE:20260613
DTSTAMP:20260422T082438
CREATED:20260203T032618Z
LAST-MODIFIED:20260204T042749Z
UID:5119-1781222400-1781308799@mullaloobeachps.wa.edu.au
SUMMARY:Y3 Rm 6 Assembly
DESCRIPTION:
URL:https://mullaloobeachps.wa.edu.au/calendar/assembly-12/
CATEGORIES:Assembly
END:VEVENT
BEGIN:VEVENT
DTSTART;VALUE=DATE:20260615
DTEND;VALUE=DATE:20260617
DTSTAMP:20260422T082438
CREATED:20251215T051403Z
LAST-MODIFIED:20251215T051403Z
UID:4945-1781481600-1781654399@mullaloobeachps.wa.edu.au
SUMMARY:Kindy Blue days
DESCRIPTION:
URL:https://mullaloobeachps.wa.edu.au/calendar/kindy-blue-days-18/
CATEGORIES:Kindy Blue
END:VEVENT
BEGIN:VEVENT
DTSTART;VALUE=DATE:20260617
DTEND;VALUE=DATE:20260620
DTSTAMP:20260422T082438
CREATED:20251218T022753Z
LAST-MODIFIED:20251218T022753Z
UID:5043-1781654400-1781913599@mullaloobeachps.wa.edu.au
SUMMARY:Kindy Yellow days
DESCRIPTION:
URL:https://mullaloobeachps.wa.edu.au/calendar/kindy-yellow-days-27/
CATEGORIES:Kindy Yellow
END:VEVENT
BEGIN:VEVENT
DTSTART;VALUE=DATE:20260622
DTEND;VALUE=DATE:20260625
DTSTAMP:20260422T082438
CREATED:20251215T051428Z
LAST-MODIFIED:20251215T051428Z
UID:4947-1782086400-1782345599@mullaloobeachps.wa.edu.au
SUMMARY:Kindy Blue days
DESCRIPTION:
URL:https://mullaloobeachps.wa.edu.au/calendar/kindy-blue-days-19/
CATEGORIES:Kindy Blue
END:VEVENT
BEGIN:VEVENT
DTSTART;VALUE=DATE:20260625
DTEND;VALUE=DATE:20260627
DTSTAMP:20260422T082438
CREATED:20251218T022819Z
LAST-MODIFIED:20251218T022819Z
UID:5045-1782345600-1782518399@mullaloobeachps.wa.edu.au
SUMMARY:Kindy Yellow days
DESCRIPTION:
URL:https://mullaloobeachps.wa.edu.au/calendar/kindy-yellow-days-28/
CATEGORIES:Kindy Yellow
END:VEVENT
BEGIN:VEVENT
DTSTART;VALUE=DATE:20260626
DTEND;VALUE=DATE:20260627
DTSTAMP:20260422T082438
CREATED:20260203T032642Z
LAST-MODIFIED:20260204T042809Z
UID:5121-1782432000-1782518399@mullaloobeachps.wa.edu.au
SUMMARY:Y4/5 Rm 10 Assembly
DESCRIPTION:
URL:https://mullaloobeachps.wa.edu.au/calendar/assembly-13/
CATEGORIES:Assembly
END:VEVENT
BEGIN:VEVENT
DTSTART;VALUE=DATE:20260629
DTEND;VALUE=DATE:20260701
DTSTAMP:20260422T082438
CREATED:20251215T052507Z
LAST-MODIFIED:20251215T052507Z
UID:4949-1782691200-1782863999@mullaloobeachps.wa.edu.au
SUMMARY:Kindy Blue days
DESCRIPTION:
URL:https://mullaloobeachps.wa.edu.au/calendar/kindy-blue-days-20/
CATEGORIES:Kindy Blue
END:VEVENT
BEGIN:VEVENT
DTSTART;VALUE=DATE:20260701
DTEND;VALUE=DATE:20260704
DTSTAMP:20260422T082438
CREATED:20251218T022916Z
LAST-MODIFIED:20251218T022916Z
UID:5047-1782864000-1783123199@mullaloobeachps.wa.edu.au
SUMMARY:Kindy Yellow days
DESCRIPTION:
URL:https://mullaloobeachps.wa.edu.au/calendar/kindy-yellow-days-29/
CATEGORIES:Kindy Yellow
END:VEVENT
BEGIN:VEVENT
DTSTART;VALUE=DATE:20260703
DTEND;VALUE=DATE:20260704
DTSTAMP:20260422T082438
CREATED:20251013T061456Z
LAST-MODIFIED:20251013T061456Z
UID:4780-1783036800-1783123199@mullaloobeachps.wa.edu.au
SUMMARY:Last day of Term 2
DESCRIPTION:
URL:https://mullaloobeachps.wa.edu.au/calendar/last-day-of-term-2-2/
CATEGORIES:Term Dates
END:VEVENT
BEGIN:VEVENT
DTSTART;TZID=Australia/Perth:20260704T080000
DTEND;TZID=Australia/Perth:20260719T170000
DTSTAMP:20260422T082438
CREATED:20251013T061016Z
LAST-MODIFIED:20251013T061016Z
UID:4762-1783152000-1784480400@mullaloobeachps.wa.edu.au
SUMMARY:School Holidays
DESCRIPTION:
URL:https://mullaloobeachps.wa.edu.au/calendar/school-holidays-7/
CATEGORIES:School Holiday dates
END:VEVENT
BEGIN:VEVENT
DTSTART;VALUE=DATE:20260720
DTEND;VALUE=DATE:20260721
DTSTAMP:20260422T082438
CREATED:20251111T071259Z
LAST-MODIFIED:20251111T071259Z
UID:4860-1784505600-1784591999@mullaloobeachps.wa.edu.au
SUMMARY:Professional Development Day – Students do not attend school today
DESCRIPTION:
URL:https://mullaloobeachps.wa.edu.au/calendar/professional-development-day-students-do-not-attend-school-today-10/
CATEGORIES:PD Days
END:VEVENT
BEGIN:VEVENT
DTSTART;VALUE=DATE:20260721
DTEND;VALUE=DATE:20260722
DTSTAMP:20260422T082438
CREATED:20251013T061432Z
LAST-MODIFIED:20251013T061432Z
UID:4778-1784592000-1784678399@mullaloobeachps.wa.edu.au
SUMMARY:First day of Term 3
DESCRIPTION:
URL:https://mullaloobeachps.wa.edu.au/calendar/first-day-of-term-3/
CATEGORIES:Term Dates
END:VEVENT
BEGIN:VEVENT
DTSTART;VALUE=DATE:20260721
DTEND;VALUE=DATE:20260723
DTSTAMP:20260422T082438
CREATED:20251215T052536Z
LAST-MODIFIED:20251215T052536Z
UID:4951-1784592000-1784764799@mullaloobeachps.wa.edu.au
SUMMARY:Kindy Blue days
DESCRIPTION:
URL:https://mullaloobeachps.wa.edu.au/calendar/kindy-blue-days-21/
CATEGORIES:Kindy Blue
END:VEVENT
BEGIN:VEVENT
DTSTART;VALUE=DATE:20260723
DTEND;VALUE=DATE:20260725
DTSTAMP:20260422T082438
CREATED:20251218T014921Z
LAST-MODIFIED:20251218T014921Z
UID:4999-1784764800-1784937599@mullaloobeachps.wa.edu.au
SUMMARY:Kindy Yellow days
DESCRIPTION:
URL:https://mullaloobeachps.wa.edu.au/calendar/kindy-yellow-days-5/
CATEGORIES:Kindy Yellow
END:VEVENT
BEGIN:VEVENT
DTSTART;VALUE=DATE:20260727
DTEND;VALUE=DATE:20260729
DTSTAMP:20260422T082438
CREATED:20251215T052559Z
LAST-MODIFIED:20251215T052559Z
UID:4953-1785110400-1785283199@mullaloobeachps.wa.edu.au
SUMMARY:Kindy Blue days
DESCRIPTION:
URL:https://mullaloobeachps.wa.edu.au/calendar/kindy-blue-days-22/
CATEGORIES:Kindy Blue
END:VEVENT
BEGIN:VEVENT
DTSTART;VALUE=DATE:20260729
DTEND;VALUE=DATE:20260730
DTSTAMP:20260422T082438
CREATED:20260204T042236Z
LAST-MODIFIED:20260204T042249Z
UID:5123-1785283200-1785369599@mullaloobeachps.wa.edu.au
SUMMARY:Interschool cross country
DESCRIPTION:
URL:https://mullaloobeachps.wa.edu.au/calendar/interschool-cross-country-2/
CATEGORIES:Special Events
END:VEVENT
BEGIN:VEVENT
DTSTART;VALUE=DATE:20260729
DTEND;VALUE=DATE:20260801
DTSTAMP:20260422T082438
CREATED:20251218T014952Z
LAST-MODIFIED:20251218T014952Z
UID:5001-1785283200-1785542399@mullaloobeachps.wa.edu.au
SUMMARY:Kindy Yellow days
DESCRIPTION:
URL:https://mullaloobeachps.wa.edu.au/calendar/kindy-yellow-days-6/
CATEGORIES:Kindy Yellow
END:VEVENT
BEGIN:VEVENT
DTSTART;VALUE=DATE:20260731
DTEND;VALUE=DATE:20260801
DTSTAMP:20260422T082438
CREATED:20260204T042941Z
LAST-MODIFIED:20260204T042941Z
UID:5134-1785456000-1785542399@mullaloobeachps.wa.edu.au
SUMMARY:Yr2 Rm4 Assembly
DESCRIPTION:
URL:https://mullaloobeachps.wa.edu.au/calendar/yr2-rm4-assembly/
CATEGORIES:Assembly
END:VEVENT
END:VCALENDAR