BEGIN:VCALENDAR
VERSION:2.0
PRODID:-//Mullaloo Beach Primary School - ECPv6.15.17//NONSGML v1.0//EN
CALSCALE:GREGORIAN
METHOD:PUBLISH
X-WR-CALNAME:Mullaloo Beach Primary School
X-ORIGINAL-URL:https://mullaloobeachps.wa.edu.au
X-WR-CALDESC:Events for Mullaloo Beach Primary School
REFRESH-INTERVAL;VALUE=DURATION:PT1H
X-Robots-Tag:noindex
X-PUBLISHED-TTL:PT1H
BEGIN:VTIMEZONE
TZID:Australia/Perth
BEGIN:STANDARD
TZOFFSETFROM:+0800
TZOFFSETTO:+0800
TZNAME:AWST
DTSTART:20240101T000000
END:STANDARD
END:VTIMEZONE
BEGIN:VEVENT
DTSTART;VALUE=DATE:20251205
DTEND;VALUE=DATE:20251206
DTSTAMP:20260422T050234
CREATED:20250219T014401Z
LAST-MODIFIED:20251117T062043Z
UID:4147-1764892800-1764979199@mullaloobeachps.wa.edu.au
SUMMARY:Book Awards 8:45am
DESCRIPTION:
URL:https://mullaloobeachps.wa.edu.au/calendar/book-awards/
CATEGORIES:Assembly,School Events
END:VEVENT
BEGIN:VEVENT
DTSTART;VALUE=DATE:20251203
DTEND;VALUE=DATE:20251204
DTSTAMP:20260422T050234
CREATED:20250814T054426Z
LAST-MODIFIED:20251119T073215Z
UID:4631-1764720000-1764806399@mullaloobeachps.wa.edu.au
SUMMARY:2026 Kindy Orientation KB 9-945am\, KY 10-1045am
DESCRIPTION:
URL:https://mullaloobeachps.wa.edu.au/calendar/2026-kindy-orientation-9am-10am/
CATEGORIES:Special Events
END:VEVENT
BEGIN:VEVENT
DTSTART;VALUE=DATE:20251203
DTEND;VALUE=DATE:20251204
DTSTAMP:20260422T050234
CREATED:20251111T064841Z
LAST-MODIFIED:20251111T064937Z
UID:4851-1764720000-1764806399@mullaloobeachps.wa.edu.au
SUMMARY:New PP 2026 Orientation 2:30-3:00pm
DESCRIPTION:
URL:https://mullaloobeachps.wa.edu.au/calendar/new-pp-2026-orientation-230-300pm/
CATEGORIES:Special Events
END:VEVENT
BEGIN:VEVENT
DTSTART;VALUE=DATE:20251201
DTEND;VALUE=DATE:20251203
DTSTAMP:20260422T050234
CREATED:20241024T045003Z
LAST-MODIFIED:20241024T045003Z
UID:3820-1764547200-1764719999@mullaloobeachps.wa.edu.au
SUMMARY:Kindy Days
DESCRIPTION:
URL:https://mullaloobeachps.wa.edu.au/calendar/kindy-days-38/
CATEGORIES:Kindy Blue
END:VEVENT
BEGIN:VEVENT
DTSTART;VALUE=DATE:20251128
DTEND;VALUE=DATE:20251129
DTSTAMP:20260422T050234
CREATED:20250219T013030Z
LAST-MODIFIED:20250825T043139Z
UID:4135-1764288000-1764374399@mullaloobeachps.wa.edu.au
SUMMARY:Assembly Yr 4 Rm11
DESCRIPTION:
URL:https://mullaloobeachps.wa.edu.au/calendar/assembly-yr-4-rm11/
CATEGORIES:Assembly
END:VEVENT
BEGIN:VEVENT
DTSTART;VALUE=DATE:20251125
DTEND;VALUE=DATE:20251126
DTSTAMP:20260422T050234
CREATED:20251112T063813Z
LAST-MODIFIED:20251112T063813Z
UID:4866-1764028800-1764115199@mullaloobeachps.wa.edu.au
SUMMARY:ORSHS Music Performance 1130am
DESCRIPTION:
URL:https://mullaloobeachps.wa.edu.au/calendar/orshs-music-performance-1130am/
CATEGORIES:Special Events
END:VEVENT
BEGIN:VEVENT
DTSTART;VALUE=DATE:20251124
DTEND;VALUE=DATE:20251127
DTSTAMP:20260422T050234
CREATED:20241024T044937Z
LAST-MODIFIED:20241024T044937Z
UID:3818-1763942400-1764201599@mullaloobeachps.wa.edu.au
SUMMARY:Kindy Days
DESCRIPTION:
URL:https://mullaloobeachps.wa.edu.au/calendar/kindy-days-37/
CATEGORIES:Kindy Blue
END:VEVENT
BEGIN:VEVENT
DTSTART;VALUE=DATE:20251121
DTEND;VALUE=DATE:20251122
DTSTAMP:20260422T050234
CREATED:20250219T013738Z
LAST-MODIFIED:20250219T013738Z
UID:4139-1763683200-1763769599@mullaloobeachps.wa.edu.au
SUMMARY:Assembly French
DESCRIPTION:
URL:https://mullaloobeachps.wa.edu.au/calendar/assembly-french-2/
CATEGORIES:Assembly
END:VEVENT
BEGIN:VEVENT
DTSTART;VALUE=DATE:20251120
DTEND;VALUE=DATE:20251121
DTSTAMP:20260422T050234
CREATED:20250916T012739Z
LAST-MODIFIED:20250916T012739Z
UID:4748-1763596800-1763683199@mullaloobeachps.wa.edu.au
SUMMARY:Yr 6 Leadership Lunch @Parliament House
DESCRIPTION:
URL:https://mullaloobeachps.wa.edu.au/calendar/yr-6-leadership-lunch-parliament-house/
CATEGORIES:Year 6
END:VEVENT
BEGIN:VEVENT
DTSTART;TZID=Australia/Perth:20251119T100000
DTEND;TZID=Australia/Perth:20251119T104500
DTSTAMP:20260422T050234
CREATED:20250904T084034Z
LAST-MODIFIED:20250904T084034Z
UID:4742-1763546400-1763549100@mullaloobeachps.wa.edu.au
SUMMARY:3s by the Sea Kindy Yellow 2026
DESCRIPTION:
URL:https://mullaloobeachps.wa.edu.au/calendar/3s-by-the-sea-kindy-yellow-2026-4/
CATEGORIES:Kindy Yellow
END:VEVENT
BEGIN:VEVENT
DTSTART;TZID=Australia/Perth:20251119T090000
DTEND;TZID=Australia/Perth:20251119T094500
DTSTAMP:20260422T050234
CREATED:20250904T083828Z
LAST-MODIFIED:20250904T083828Z
UID:4734-1763542800-1763545500@mullaloobeachps.wa.edu.au
SUMMARY:3s by the Sea Kindy Blue 2026
DESCRIPTION:
URL:https://mullaloobeachps.wa.edu.au/calendar/3s-by-the-sea-kindy-blue-2026-4/
CATEGORIES:Kindy Blue
END:VEVENT
BEGIN:VEVENT
DTSTART;VALUE=DATE:20251117
DTEND;VALUE=DATE:20251119
DTSTAMP:20260422T050234
CREATED:20241024T044902Z
LAST-MODIFIED:20241024T044902Z
UID:3816-1763337600-1763510399@mullaloobeachps.wa.edu.au
SUMMARY:Kindy Days
DESCRIPTION:
URL:https://mullaloobeachps.wa.edu.au/calendar/kindy-days-36/
CATEGORIES:Kindy Blue
END:VEVENT
BEGIN:VEVENT
DTSTART;VALUE=DATE:20251114
DTEND;VALUE=DATE:20251115
DTSTAMP:20260422T050234
CREATED:20251013T054641Z
LAST-MODIFIED:20251013T054641Z
UID:4752-1763078400-1763164799@mullaloobeachps.wa.edu.au
SUMMARY:P&C Colour Run
DESCRIPTION:
URL:https://mullaloobeachps.wa.edu.au/calendar/pc-colour-run/
CATEGORIES:P&C and Board Meetings
END:VEVENT
BEGIN:VEVENT
DTSTART;VALUE=DATE:20251111
DTEND;VALUE=DATE:20251112
DTSTAMP:20260422T050234
CREATED:20250220T013907Z
LAST-MODIFIED:20250220T013907Z
UID:4179-1762819200-1762905599@mullaloobeachps.wa.edu.au
SUMMARY:Remembrance Day
DESCRIPTION:
URL:https://mullaloobeachps.wa.edu.au/calendar/remembrance-day-2/
CATEGORIES:Special Days
END:VEVENT
BEGIN:VEVENT
DTSTART;VALUE=DATE:20251110
DTEND;VALUE=DATE:20251113
DTSTAMP:20260422T050234
CREATED:20241024T044838Z
LAST-MODIFIED:20241024T044838Z
UID:3814-1762732800-1762991999@mullaloobeachps.wa.edu.au
SUMMARY:Kindy Days
DESCRIPTION:
URL:https://mullaloobeachps.wa.edu.au/calendar/kindy-days-35/
CATEGORIES:Kindy Blue
END:VEVENT
BEGIN:VEVENT
DTSTART;VALUE=DATE:20251107
DTEND;VALUE=DATE:20251108
DTSTAMP:20260422T050234
CREATED:20250219T013134Z
LAST-MODIFIED:20250219T013134Z
UID:4137-1762473600-1762559999@mullaloobeachps.wa.edu.au
SUMMARY:Assembly PP1 & PP2
DESCRIPTION:
URL:https://mullaloobeachps.wa.edu.au/calendar/assembly-pp1-pp2-2/
CATEGORIES:Assembly
END:VEVENT
BEGIN:VEVENT
DTSTART;TZID=Australia/Perth:20251105T100000
DTEND;TZID=Australia/Perth:20251105T104500
DTSTAMP:20260422T050234
CREATED:20250904T084006Z
LAST-MODIFIED:20250904T084006Z
UID:4740-1762336800-1762339500@mullaloobeachps.wa.edu.au
SUMMARY:3s by the Sea Kindy Yellow 2026
DESCRIPTION:
URL:https://mullaloobeachps.wa.edu.au/calendar/3s-by-the-sea-kindy-yellow-2026-3/
CATEGORIES:Kindy Yellow
END:VEVENT
BEGIN:VEVENT
DTSTART;TZID=Australia/Perth:20251105T090000
DTEND;TZID=Australia/Perth:20251107T150000
DTSTAMP:20260422T050234
CREATED:20250724T075257Z
LAST-MODIFIED:20250818T072606Z
UID:4586-1762333200-1762527600@mullaloobeachps.wa.edu.au
SUMMARY:Yr 6 Camp
DESCRIPTION:Year 6 Camp Note 2025
URL:https://mullaloobeachps.wa.edu.au/calendar/yr-6-camp/
CATEGORIES:Year 6
END:VEVENT
BEGIN:VEVENT
DTSTART;TZID=Australia/Perth:20251105T090000
DTEND;TZID=Australia/Perth:20251105T094500
DTSTAMP:20260422T050234
CREATED:20250904T083805Z
LAST-MODIFIED:20250904T083805Z
UID:4732-1762333200-1762335900@mullaloobeachps.wa.edu.au
SUMMARY:3s by the Sea Kindy Blue 2026
DESCRIPTION:
URL:https://mullaloobeachps.wa.edu.au/calendar/3s-by-the-sea-kindy-blue-2026-3/
CATEGORIES:Kindy Blue
END:VEVENT
BEGIN:VEVENT
DTSTART;VALUE=DATE:20251103
DTEND;VALUE=DATE:20251105
DTSTAMP:20260422T050234
CREATED:20241024T044811Z
LAST-MODIFIED:20241024T044811Z
UID:3812-1762128000-1762300799@mullaloobeachps.wa.edu.au
SUMMARY:Kindy Days
DESCRIPTION:
URL:https://mullaloobeachps.wa.edu.au/calendar/kindy-days-34/
CATEGORIES:Kindy Blue
END:VEVENT
BEGIN:VEVENT
DTSTART;VALUE=DATE:20251031
DTEND;VALUE=DATE:20251101
DTSTAMP:20260422T050234
CREATED:20250219T012111Z
LAST-MODIFIED:20250818T072259Z
UID:4128-1761868800-1761955199@mullaloobeachps.wa.edu.au
SUMMARY:Assembly Yr2 Rm3
DESCRIPTION:
URL:https://mullaloobeachps.wa.edu.au/calendar/assembly-yr2-rm3/
CATEGORIES:Assembly
END:VEVENT
BEGIN:VEVENT
DTSTART;VALUE=DATE:20251031
DTEND;VALUE=DATE:20251101
DTSTAMP:20260422T050234
CREATED:20250220T012711Z
LAST-MODIFIED:20250220T014539Z
UID:4173-1761868800-1761955199@mullaloobeachps.wa.edu.au
SUMMARY:World Teacher Day
DESCRIPTION:
URL:https://mullaloobeachps.wa.edu.au/calendar/world-teacher-day/
CATEGORIES:Special Days
END:VEVENT
BEGIN:VEVENT
DTSTART;VALUE=DATE:20251028
DTEND;VALUE=DATE:20251029
DTSTAMP:20260422T050234
CREATED:20250918T031232Z
LAST-MODIFIED:20250918T031232Z
UID:4750-1761609600-1761695999@mullaloobeachps.wa.edu.au
SUMMARY:Kindy Sports Morning
DESCRIPTION:
URL:https://mullaloobeachps.wa.edu.au/calendar/kindy-sports-morning/
CATEGORIES:Special Events
END:VEVENT
BEGIN:VEVENT
DTSTART;VALUE=DATE:20251027
DTEND;VALUE=DATE:20251030
DTSTAMP:20260422T050234
CREATED:20241024T044731Z
LAST-MODIFIED:20241024T044731Z
UID:3810-1761523200-1761782399@mullaloobeachps.wa.edu.au
SUMMARY:Kindy Days
DESCRIPTION:
URL:https://mullaloobeachps.wa.edu.au/calendar/kindy-days-33/
CATEGORIES:Kindy Blue
END:VEVENT
BEGIN:VEVENT
DTSTART;VALUE=DATE:20251027
DTEND;VALUE=DATE:20251028
DTSTAMP:20260422T050234
CREATED:20250908T031224Z
LAST-MODIFIED:20250908T031224Z
UID:4744-1761523200-1761609599@mullaloobeachps.wa.edu.au
SUMMARY:PP Caversham Excursion
DESCRIPTION:Caversham Wildlife Excursion 2025 (1)
URL:https://mullaloobeachps.wa.edu.au/calendar/pp-caversham-excursion/
CATEGORIES:Excursions Incursion
END:VEVENT
BEGIN:VEVENT
DTSTART;VALUE=DATE:20251024
DTEND;VALUE=DATE:20251025
DTSTAMP:20260422T050234
CREATED:20250220T012631Z
LAST-MODIFIED:20251016T050824Z
UID:4171-1761264000-1761350399@mullaloobeachps.wa.edu.au
SUMMARY:Interschool Carnival Forest Park
DESCRIPTION:MBPS interschool permission participants 2025
URL:https://mullaloobeachps.wa.edu.au/calendar/interschool-carnival/
CATEGORIES:School Events
END:VEVENT
BEGIN:VEVENT
DTSTART;TZID=Australia/Perth:20251022T100000
DTEND;TZID=Australia/Perth:20251022T104500
DTSTAMP:20260422T050234
CREATED:20250904T083932Z
LAST-MODIFIED:20250904T083932Z
UID:4738-1761127200-1761129900@mullaloobeachps.wa.edu.au
SUMMARY:3s by the Sea Kindy Yellow 2026
DESCRIPTION:
URL:https://mullaloobeachps.wa.edu.au/calendar/3s-by-the-sea-kindy-yellow-2026-2/
CATEGORIES:Kindy Yellow
END:VEVENT
BEGIN:VEVENT
DTSTART;TZID=Australia/Perth:20251022T090000
DTEND;TZID=Australia/Perth:20251022T094500
DTSTAMP:20260422T050234
CREATED:20250904T083734Z
LAST-MODIFIED:20250904T083734Z
UID:4730-1761123600-1761126300@mullaloobeachps.wa.edu.au
SUMMARY:3s by the Sea Kindy Blue 2026
DESCRIPTION:
URL:https://mullaloobeachps.wa.edu.au/calendar/3s-by-the-sea-kindy-blue-2026-2/
CATEGORIES:Kindy Blue
END:VEVENT
BEGIN:VEVENT
DTSTART;VALUE=DATE:20251022
DTEND;VALUE=DATE:20251023
DTSTAMP:20260422T050234
CREATED:20250822T023443Z
LAST-MODIFIED:20250825T043244Z
UID:4673-1761091200-1761177599@mullaloobeachps.wa.edu.au
SUMMARY:Interschool Jumps & Throws @MBPS
DESCRIPTION:
URL:https://mullaloobeachps.wa.edu.au/calendar/interschool-jumps-and-throws/
CATEGORIES:School Events
END:VEVENT
BEGIN:VEVENT
DTSTART;VALUE=DATE:20251020
DTEND;VALUE=DATE:20251022
DTSTAMP:20260422T050234
CREATED:20241024T044702Z
LAST-MODIFIED:20241024T044702Z
UID:3808-1760918400-1761091199@mullaloobeachps.wa.edu.au
SUMMARY:Kindy Days
DESCRIPTION:
URL:https://mullaloobeachps.wa.edu.au/calendar/kindy-days-32/
CATEGORIES:Kindy Blue
END:VEVENT
END:VCALENDAR