BEGIN:VCALENDAR
VERSION:2.0
PRODID:-//Mullaloo Beach Primary School - ECPv6.15.17//NONSGML v1.0//EN
CALSCALE:GREGORIAN
METHOD:PUBLISH
X-ORIGINAL-URL:https://mullaloobeachps.wa.edu.au
X-WR-CALDESC:Events for Mullaloo Beach Primary School
REFRESH-INTERVAL;VALUE=DURATION:PT1H
X-Robots-Tag:noindex
X-PUBLISHED-TTL:PT1H
BEGIN:VTIMEZONE
TZID:Australia/Perth
BEGIN:STANDARD
TZOFFSETFROM:+0800
TZOFFSETTO:+0800
TZNAME:AWST
DTSTART:20240101T000000
END:STANDARD
END:VTIMEZONE
BEGIN:VEVENT
DTSTART;VALUE=DATE:20250903
DTEND;VALUE=DATE:20250904
DTSTAMP:20260422T022757
CREATED:20250821T031146Z
LAST-MODIFIED:20250821T031146Z
UID:4667-1756857600-1756943999@mullaloobeachps.wa.edu.au
SUMMARY:Book Week Parade @9am
DESCRIPTION:
URL:https://mullaloobeachps.wa.edu.au/calendar/book-week-parade-9am/
CATEGORIES:Special Events
END:VEVENT
BEGIN:VEVENT
DTSTART;VALUE=DATE:20250904
DTEND;VALUE=DATE:20250905
DTSTAMP:20260422T022757
CREATED:20250219T014218Z
LAST-MODIFIED:20250821T031259Z
UID:4143-1756944000-1757030399@mullaloobeachps.wa.edu.au
SUMMARY:Open Night 5pm-6pm
DESCRIPTION:
URL:https://mullaloobeachps.wa.edu.au/calendar/open-night/
CATEGORIES:Special Events
END:VEVENT
BEGIN:VEVENT
DTSTART;VALUE=DATE:20250905
DTEND;VALUE=DATE:20250906
DTSTAMP:20260422T022757
CREATED:20250721T041943Z
LAST-MODIFIED:20250721T041943Z
UID:4565-1757030400-1757116799@mullaloobeachps.wa.edu.au
SUMMARY:Edu Dance
DESCRIPTION:
URL:https://mullaloobeachps.wa.edu.au/calendar/edu-dance-13/
CATEGORIES:School Events
END:VEVENT
BEGIN:VEVENT
DTSTART;VALUE=DATE:20250905
DTEND;VALUE=DATE:20250906
DTSTAMP:20260422T022757
CREATED:20250801T075425Z
LAST-MODIFIED:20250801T075425Z
UID:4611-1757030400-1757116799@mullaloobeachps.wa.edu.au
SUMMARY:P&C Fathers Day Stall
DESCRIPTION:
URL:https://mullaloobeachps.wa.edu.au/calendar/pc-fathers-day-stall-2/
CATEGORIES:P&C and Board Meetings
END:VEVENT
BEGIN:VEVENT
DTSTART;VALUE=DATE:20250908
DTEND;VALUE=DATE:20250909
DTSTAMP:20260422T022757
CREATED:20250721T042003Z
LAST-MODIFIED:20250721T042003Z
UID:4567-1757289600-1757375999@mullaloobeachps.wa.edu.au
SUMMARY:Edu Dance
DESCRIPTION:
URL:https://mullaloobeachps.wa.edu.au/calendar/edu-dance-14/
CATEGORIES:School Events
END:VEVENT
BEGIN:VEVENT
DTSTART;VALUE=DATE:20250908
DTEND;VALUE=DATE:20250910
DTSTAMP:20260422T022757
CREATED:20241024T044458Z
LAST-MODIFIED:20241024T044458Z
UID:3800-1757289600-1757462399@mullaloobeachps.wa.edu.au
SUMMARY:Kindy Days
DESCRIPTION:
URL:https://mullaloobeachps.wa.edu.au/calendar/kindy-days-28/
CATEGORIES:Kindy Blue
END:VEVENT
BEGIN:VEVENT
DTSTART;TZID=Australia/Perth:20250908T140000
DTEND;TZID=Australia/Perth:20250908T150000
DTSTAMP:20260422T022757
CREATED:20250814T053757Z
LAST-MODIFIED:20250814T053757Z
UID:4625-1757340000-1757343600@mullaloobeachps.wa.edu.au
SUMMARY:Kindy & PP Fathers Day Event @2pm
DESCRIPTION:
URL:https://mullaloobeachps.wa.edu.au/calendar/kindy-pp-fathers-day-event-2pm/
CATEGORIES:Kindy Blue,Special Days
END:VEVENT
BEGIN:VEVENT
DTSTART;VALUE=DATE:20250909
DTEND;VALUE=DATE:20250910
DTSTAMP:20260422T022757
CREATED:20250220T002512Z
LAST-MODIFIED:20250825T073017Z
UID:4159-1757376000-1757462399@mullaloobeachps.wa.edu.au
SUMMARY:RU OK Day
DESCRIPTION:
URL:https://mullaloobeachps.wa.edu.au/calendar/ru-ok-day/
CATEGORIES:Special Days
END:VEVENT
BEGIN:VEVENT
DTSTART;VALUE=DATE:20250909
DTEND;VALUE=DATE:20250910
DTSTAMP:20260422T022757
CREATED:20250721T041119Z
LAST-MODIFIED:20250721T041119Z
UID:4535-1757376000-1757462399@mullaloobeachps.wa.edu.au
SUMMARY:Choir 08:15am
DESCRIPTION:
URL:https://mullaloobeachps.wa.edu.au/calendar/choir-0815am-16/
CATEGORIES:School Events
END:VEVENT
BEGIN:VEVENT
DTSTART;VALUE=DATE:20250909
DTEND;VALUE=DATE:20250910
DTSTAMP:20260422T022757
CREATED:20250721T042025Z
LAST-MODIFIED:20250721T042025Z
UID:4569-1757376000-1757462399@mullaloobeachps.wa.edu.au
SUMMARY:Edu Dance
DESCRIPTION:
URL:https://mullaloobeachps.wa.edu.au/calendar/edu-dance-15/
CATEGORIES:School Events
END:VEVENT
BEGIN:VEVENT
DTSTART;TZID=Australia/Perth:20250910T090000
DTEND;TZID=Australia/Perth:20250910T100000
DTSTAMP:20260422T022757
CREATED:20250904T083642Z
LAST-MODIFIED:20250904T083642Z
UID:4728-1757494800-1757498400@mullaloobeachps.wa.edu.au
SUMMARY:3s by the Sea Kindy Blue 2026
DESCRIPTION:
URL:https://mullaloobeachps.wa.edu.au/calendar/3s-by-the-sea-kindy-blue-2026/
CATEGORIES:Kindy Blue
END:VEVENT
BEGIN:VEVENT
DTSTART;VALUE=DATE:20250911
DTEND;VALUE=DATE:20250912
DTSTAMP:20260422T022757
CREATED:20250821T021258Z
LAST-MODIFIED:20250821T021346Z
UID:4656-1757548800-1757635199@mullaloobeachps.wa.edu.au
SUMMARY:Jumps and Throws Yr3-6
DESCRIPTION:
URL:https://mullaloobeachps.wa.edu.au/calendar/jumps-and-throws-yr3-6/
CATEGORIES:Special Events
END:VEVENT
BEGIN:VEVENT
DTSTART;VALUE=DATE:20250912
DTEND;VALUE=DATE:20250913
DTSTAMP:20260422T022757
CREATED:20250219T012221Z
LAST-MODIFIED:20250219T012221Z
UID:4130-1757635200-1757721599@mullaloobeachps.wa.edu.au
SUMMARY:Assembly Yr5&6 Rm9
DESCRIPTION:
URL:https://mullaloobeachps.wa.edu.au/calendar/assembly-yr56-rm9/
CATEGORIES:Assembly
END:VEVENT
BEGIN:VEVENT
DTSTART;VALUE=DATE:20250915
DTEND;VALUE=DATE:20250916
DTSTAMP:20260422T022757
CREATED:20250721T042043Z
LAST-MODIFIED:20250721T043920Z
UID:4571-1757894400-1757980799@mullaloobeachps.wa.edu.au
SUMMARY:Edu Dance
DESCRIPTION:
URL:https://mullaloobeachps.wa.edu.au/calendar/edu-dance-16/
CATEGORIES:School Events
END:VEVENT
BEGIN:VEVENT
DTSTART;VALUE=DATE:20250915
DTEND;VALUE=DATE:20250918
DTSTAMP:20260422T022757
CREATED:20241024T044524Z
LAST-MODIFIED:20241024T044524Z
UID:3802-1757894400-1758153599@mullaloobeachps.wa.edu.au
SUMMARY:Kindy Days
DESCRIPTION:
URL:https://mullaloobeachps.wa.edu.au/calendar/kindy-days-29/
CATEGORIES:Kindy Blue
END:VEVENT
BEGIN:VEVENT
DTSTART;VALUE=DATE:20250916
DTEND;VALUE=DATE:20250917
DTSTAMP:20260422T022757
CREATED:20250721T041142Z
LAST-MODIFIED:20250721T041142Z
UID:4537-1757980800-1758067199@mullaloobeachps.wa.edu.au
SUMMARY:Choir 08:15am
DESCRIPTION:
URL:https://mullaloobeachps.wa.edu.au/calendar/choir-0815am-17/
CATEGORIES:School Events
END:VEVENT
BEGIN:VEVENT
DTSTART;VALUE=DATE:20250916
DTEND;VALUE=DATE:20250917
DTSTAMP:20260422T022757
CREATED:20250721T042102Z
LAST-MODIFIED:20250721T042102Z
UID:4573-1757980800-1758067199@mullaloobeachps.wa.edu.au
SUMMARY:Edu Dance
DESCRIPTION:
URL:https://mullaloobeachps.wa.edu.au/calendar/edu-dance-17/
CATEGORIES:School Events
END:VEVENT
BEGIN:VEVENT
DTSTART;VALUE=DATE:20250919
DTEND;VALUE=DATE:20250920
DTSTAMP:20260422T022757
CREATED:20250219T014309Z
LAST-MODIFIED:20250821T021449Z
UID:4145-1758240000-1758326399@mullaloobeachps.wa.edu.au
SUMMARY:Faction Carnival
DESCRIPTION:
URL:https://mullaloobeachps.wa.edu.au/calendar/faction-carnival-tbc/
CATEGORIES:Special Events
END:VEVENT
BEGIN:VEVENT
DTSTART;VALUE=DATE:20250922
DTEND;VALUE=DATE:20250923
DTSTAMP:20260422T022757
CREATED:20250721T042134Z
LAST-MODIFIED:20250721T042134Z
UID:4575-1758499200-1758585599@mullaloobeachps.wa.edu.au
SUMMARY:Edu Dance
DESCRIPTION:
URL:https://mullaloobeachps.wa.edu.au/calendar/edu-dance-18/
CATEGORIES:School Events
END:VEVENT
BEGIN:VEVENT
DTSTART;VALUE=DATE:20250922
DTEND;VALUE=DATE:20250924
DTSTAMP:20260422T022757
CREATED:20241024T044548Z
LAST-MODIFIED:20241024T044548Z
UID:3804-1758499200-1758671999@mullaloobeachps.wa.edu.au
SUMMARY:Kindy Days
DESCRIPTION:
URL:https://mullaloobeachps.wa.edu.au/calendar/kindy-days-30/
CATEGORIES:Kindy Blue
END:VEVENT
BEGIN:VEVENT
DTSTART;TZID=Australia/Perth:20250922T134500
DTEND;TZID=Australia/Perth:20250922T150000
DTSTAMP:20260422T022757
CREATED:20250619T011451Z
LAST-MODIFIED:20250721T042212Z
UID:4473-1758548700-1758553200@mullaloobeachps.wa.edu.au
SUMMARY:EDU Dance Concert
DESCRIPTION:
URL:https://mullaloobeachps.wa.edu.au/calendar/edu-dance-concert/
CATEGORIES:Special Days
END:VEVENT
BEGIN:VEVENT
DTSTART;VALUE=DATE:20250923
DTEND;VALUE=DATE:20250924
DTSTAMP:20260422T022757
CREATED:20250721T041159Z
LAST-MODIFIED:20250721T041159Z
UID:4539-1758585600-1758671999@mullaloobeachps.wa.edu.au
SUMMARY:Choir 08:15am
DESCRIPTION:
URL:https://mullaloobeachps.wa.edu.au/calendar/choir-0815am-18/
CATEGORIES:School Events
END:VEVENT
BEGIN:VEVENT
DTSTART;VALUE=DATE:20250923
DTEND;VALUE=DATE:20250924
DTSTAMP:20260422T022757
CREATED:20250721T042919Z
LAST-MODIFIED:20250721T043000Z
UID:4580-1758585600-1758671999@mullaloobeachps.wa.edu.au
SUMMARY:Kings Park Excursion Rm 10 & 11
DESCRIPTION:
URL:https://mullaloobeachps.wa.edu.au/calendar/kings-park-excursion-rm-10-11/
CATEGORIES:Excursions Incursion
END:VEVENT
BEGIN:VEVENT
DTSTART;TZID=Australia/Perth:20250924T090000
DTEND;TZID=Australia/Perth:20250924T100000
DTSTAMP:20260422T022757
CREATED:20250904T083903Z
LAST-MODIFIED:20250904T083903Z
UID:4736-1758704400-1758708000@mullaloobeachps.wa.edu.au
SUMMARY:3s by the Sea Kindy Yellow 2026
DESCRIPTION:
URL:https://mullaloobeachps.wa.edu.au/calendar/3s-by-the-sea-kindy-yellow-2026/
CATEGORIES:Kindy Yellow
END:VEVENT
BEGIN:VEVENT
DTSTART;VALUE=DATE:20250926
DTEND;VALUE=DATE:20250927
DTSTAMP:20260422T022757
CREATED:20250219T012310Z
LAST-MODIFIED:20250219T012310Z
UID:4132-1758844800-1758931199@mullaloobeachps.wa.edu.au
SUMMARY:Assembly Yr1 Rm2
DESCRIPTION:
URL:https://mullaloobeachps.wa.edu.au/calendar/assembly-yr1-rm2/
CATEGORIES:Assembly
END:VEVENT
BEGIN:VEVENT
DTSTART;VALUE=DATE:20250926
DTEND;VALUE=DATE:20250927
DTSTAMP:20260422T022757
CREATED:20250220T014352Z
LAST-MODIFIED:20250220T014352Z
UID:4183-1758844800-1758931199@mullaloobeachps.wa.edu.au
SUMMARY:Last Day of Term 3
DESCRIPTION:
URL:https://mullaloobeachps.wa.edu.au/calendar/last-day-of-term-3/
CATEGORIES:Term Dates
END:VEVENT
BEGIN:VEVENT
DTSTART;VALUE=DATE:20250927
DTEND;VALUE=DATE:20251013
DTSTAMP:20260422T022757
CREATED:20241021T075025Z
LAST-MODIFIED:20241021T075025Z
UID:3720-1758931200-1760313599@mullaloobeachps.wa.edu.au
SUMMARY:School Holidays
DESCRIPTION:
URL:https://mullaloobeachps.wa.edu.au/calendar/school-holidays-4/
CATEGORIES:School Holiday dates
END:VEVENT
BEGIN:VEVENT
DTSTART;VALUE=DATE:20251013
DTEND;VALUE=DATE:20251014
DTSTAMP:20260422T022757
CREATED:20241024T042438Z
LAST-MODIFIED:20250619T005156Z
UID:3738-1760313600-1760399999@mullaloobeachps.wa.edu.au
SUMMARY:Professional Development Day – Students do not attend school today
DESCRIPTION:
URL:https://mullaloobeachps.wa.edu.au/calendar/professional-development-day-students-do-not-attend-school-today-5/
CATEGORIES:PD Days
END:VEVENT
BEGIN:VEVENT
DTSTART;VALUE=DATE:20251014
DTEND;VALUE=DATE:20251015
DTSTAMP:20260422T022757
CREATED:20241024T045615Z
LAST-MODIFIED:20250619T005516Z
UID:3832-1760400000-1760486399@mullaloobeachps.wa.edu.au
SUMMARY:Start of Term 4
DESCRIPTION:
URL:https://mullaloobeachps.wa.edu.au/calendar/start-of-term-4-2/
CATEGORIES:Term Dates
END:VEVENT
BEGIN:VEVENT
DTSTART;VALUE=DATE:20251014
DTEND;VALUE=DATE:20251016
DTSTAMP:20260422T022757
CREATED:20241024T044643Z
LAST-MODIFIED:20250619T005629Z
UID:3806-1760400000-1760572799@mullaloobeachps.wa.edu.au
SUMMARY:Kindy Days
DESCRIPTION:
URL:https://mullaloobeachps.wa.edu.au/calendar/kindy-days-31/
CATEGORIES:Kindy Blue
END:VEVENT
END:VCALENDAR