BEGIN:VCALENDAR
VERSION:2.0
PRODID:-//Mullaloo Beach Primary School - ECPv6.15.17//NONSGML v1.0//EN
CALSCALE:GREGORIAN
METHOD:PUBLISH
X-WR-CALNAME:Mullaloo Beach Primary School
X-ORIGINAL-URL:https://mullaloobeachps.wa.edu.au
X-WR-CALDESC:Events for Mullaloo Beach Primary School
REFRESH-INTERVAL;VALUE=DURATION:PT1H
X-Robots-Tag:noindex
X-PUBLISHED-TTL:PT1H
BEGIN:VTIMEZONE
TZID:Australia/Perth
BEGIN:STANDARD
TZOFFSETFROM:+0800
TZOFFSETTO:+0800
TZNAME:AWST
DTSTART:20250101T000000
END:STANDARD
END:VTIMEZONE
BEGIN:VEVENT
DTSTART;VALUE=DATE:20261126
DTEND;VALUE=DATE:20261128
DTSTAMP:20260423T065744
CREATED:20251218T023257Z
LAST-MODIFIED:20251218T023257Z
UID:5061-1795651200-1795823999@mullaloobeachps.wa.edu.au
SUMMARY:Kindy Yellow days
DESCRIPTION:
URL:https://mullaloobeachps.wa.edu.au/calendar/kindy-yellow-days-36/
CATEGORIES:Kindy Yellow
END:VEVENT
BEGIN:VEVENT
DTSTART;VALUE=DATE:20261130
DTEND;VALUE=DATE:20261202
DTSTAMP:20260423T065744
CREATED:20251215T055657Z
LAST-MODIFIED:20251215T055657Z
UID:4985-1795996800-1796169599@mullaloobeachps.wa.edu.au
SUMMARY:Kindy Blue days
DESCRIPTION:
URL:https://mullaloobeachps.wa.edu.au/calendar/kindy-blue-days-38/
CATEGORIES:Kindy Blue
END:VEVENT
BEGIN:VEVENT
DTSTART;VALUE=DATE:20261130
DTEND;VALUE=DATE:20261205
DTSTAMP:20260423T065744
CREATED:20251202T071911Z
LAST-MODIFIED:20251202T071911Z
UID:4882-1795996800-1796428799@mullaloobeachps.wa.edu.au
SUMMARY:Swimming Y5\,Y6
DESCRIPTION:
URL:https://mullaloobeachps.wa.edu.au/calendar/swimming-y5y6-2/
CATEGORIES:School Events
END:VEVENT
BEGIN:VEVENT
DTSTART;VALUE=DATE:20261202
DTEND;VALUE=DATE:20261205
DTSTAMP:20260423T065744
CREATED:20251218T023329Z
LAST-MODIFIED:20251218T023329Z
UID:5063-1796169600-1796428799@mullaloobeachps.wa.edu.au
SUMMARY:Kindy Yellow days
DESCRIPTION:
URL:https://mullaloobeachps.wa.edu.au/calendar/kindy-yellow-days-37/
CATEGORIES:Kindy Yellow
END:VEVENT
BEGIN:VEVENT
DTSTART;VALUE=DATE:20261204
DTEND;VALUE=DATE:20261205
DTSTAMP:20260423T065744
CREATED:20260204T043245Z
LAST-MODIFIED:20260204T043245Z
UID:5148-1796342400-1796428799@mullaloobeachps.wa.edu.au
SUMMARY:Book Awards
DESCRIPTION:
URL:https://mullaloobeachps.wa.edu.au/calendar/book-awards-2/
CATEGORIES:School Events
END:VEVENT
BEGIN:VEVENT
DTSTART;VALUE=DATE:20261207
DTEND;VALUE=DATE:20261210
DTSTAMP:20260423T065744
CREATED:20251215T055719Z
LAST-MODIFIED:20251215T055719Z
UID:4987-1796601600-1796860799@mullaloobeachps.wa.edu.au
SUMMARY:Kindy Blue days
DESCRIPTION:
URL:https://mullaloobeachps.wa.edu.au/calendar/kindy-blue-days-39/
CATEGORIES:Kindy Blue
END:VEVENT
BEGIN:VEVENT
DTSTART;VALUE=DATE:20261210
DTEND;VALUE=DATE:20261212
DTSTAMP:20260423T065744
CREATED:20251218T023350Z
LAST-MODIFIED:20251218T023350Z
UID:5065-1796860800-1797033599@mullaloobeachps.wa.edu.au
SUMMARY:Kindy Yellow days
DESCRIPTION:
URL:https://mullaloobeachps.wa.edu.au/calendar/kindy-yellow-days-38/
CATEGORIES:Kindy Yellow
END:VEVENT
BEGIN:VEVENT
DTSTART;VALUE=DATE:20261211
DTEND;VALUE=DATE:20261212
DTSTAMP:20260423T065744
CREATED:20260204T043339Z
LAST-MODIFIED:20260204T043339Z
UID:5150-1796947200-1797033599@mullaloobeachps.wa.edu.au
SUMMARY:End of Year Concert
DESCRIPTION:
URL:https://mullaloobeachps.wa.edu.au/calendar/end-of-year-concert-2/
CATEGORIES:Special Events
END:VEVENT
BEGIN:VEVENT
DTSTART;VALUE=DATE:20261214
DTEND;VALUE=DATE:20261216
DTSTAMP:20260423T065744
CREATED:20251215T060039Z
LAST-MODIFIED:20251215T060039Z
UID:4989-1797206400-1797379199@mullaloobeachps.wa.edu.au
SUMMARY:Kindy Blue days
DESCRIPTION:
URL:https://mullaloobeachps.wa.edu.au/calendar/kindy-blue-days-40/
CATEGORIES:Kindy Blue
END:VEVENT
BEGIN:VEVENT
DTSTART;VALUE=DATE:20261215
DTEND;VALUE=DATE:20261216
DTSTAMP:20260423T065744
CREATED:20260204T043402Z
LAST-MODIFIED:20260204T043504Z
UID:5152-1797292800-1797379199@mullaloobeachps.wa.edu.au
SUMMARY:Yr 6 Graduation
DESCRIPTION:
URL:https://mullaloobeachps.wa.edu.au/calendar/yr-6-graduation-2/
CATEGORIES:Year 6
END:VEVENT
BEGIN:VEVENT
DTSTART;VALUE=DATE:20261216
DTEND;VALUE=DATE:20261218
DTSTAMP:20260423T065744
CREATED:20251218T023411Z
LAST-MODIFIED:20251218T023411Z
UID:5067-1797379200-1797551999@mullaloobeachps.wa.edu.au
SUMMARY:Kindy Yellow days
DESCRIPTION:
URL:https://mullaloobeachps.wa.edu.au/calendar/kindy-yellow-days-39/
CATEGORIES:Kindy Yellow
END:VEVENT
BEGIN:VEVENT
DTSTART;VALUE=DATE:20261217
DTEND;VALUE=DATE:20261218
DTSTAMP:20260423T065744
CREATED:20251013T061310Z
LAST-MODIFIED:20251013T061310Z
UID:4772-1797465600-1797551999@mullaloobeachps.wa.edu.au
SUMMARY:Last day of Term 4
DESCRIPTION:
URL:https://mullaloobeachps.wa.edu.au/calendar/last-day-of-term-4/
CATEGORIES:Term Dates
END:VEVENT
BEGIN:VEVENT
DTSTART;VALUE=DATE:20261218
DTEND;VALUE=DATE:20261219
DTSTAMP:20260423T065744
CREATED:20251111T071409Z
LAST-MODIFIED:20251111T071409Z
UID:4864-1797552000-1797638399@mullaloobeachps.wa.edu.au
SUMMARY:Professional Development Day – Students do not attend school today
DESCRIPTION:
URL:https://mullaloobeachps.wa.edu.au/calendar/professional-development-day-students-do-not-attend-school-today-12/
CATEGORIES:PD Days
END:VEVENT
BEGIN:VEVENT
DTSTART;TZID=Australia/Perth:20261218T080000
DTEND;TZID=Australia/Perth:20270131T170000
DTSTAMP:20260423T065744
CREATED:20251013T061238Z
LAST-MODIFIED:20251013T061238Z
UID:4770-1797580800-1801414800@mullaloobeachps.wa.edu.au
SUMMARY:School Holidays
DESCRIPTION:
URL:https://mullaloobeachps.wa.edu.au/calendar/school-holidays-9/
CATEGORIES:School Holiday dates
END:VEVENT
BEGIN:VEVENT
DTSTART;VALUE=DATE:20261225
DTEND;VALUE=DATE:20261226
DTSTAMP:20260423T065744
CREATED:20251013T061902Z
LAST-MODIFIED:20251013T061902Z
UID:4798-1798156800-1798243199@mullaloobeachps.wa.edu.au
SUMMARY:Christmas Day
DESCRIPTION:
URL:https://mullaloobeachps.wa.edu.au/calendar/christmas-day-2/
CATEGORIES:Special Days
END:VEVENT
BEGIN:VEVENT
DTSTART;VALUE=DATE:20261226
DTEND;VALUE=DATE:20261227
DTSTAMP:20260423T065744
CREATED:20251013T061838Z
LAST-MODIFIED:20251013T061838Z
UID:4796-1798243200-1798329599@mullaloobeachps.wa.edu.au
SUMMARY:Boxing Day
DESCRIPTION:
URL:https://mullaloobeachps.wa.edu.au/calendar/boxing-day-2/
CATEGORIES:Special Days
END:VEVENT
END:VCALENDAR