BEGIN:VCALENDAR
VERSION:2.0
PRODID:-//Mullaloo Beach Primary School - ECPv6.15.17//NONSGML v1.0//EN
CALSCALE:GREGORIAN
METHOD:PUBLISH
X-ORIGINAL-URL:https://mullaloobeachps.wa.edu.au
X-WR-CALDESC:Events for Mullaloo Beach Primary School
REFRESH-INTERVAL;VALUE=DURATION:PT1H
X-Robots-Tag:noindex
X-PUBLISHED-TTL:PT1H
BEGIN:VTIMEZONE
TZID:Australia/Perth
BEGIN:STANDARD
TZOFFSETFROM:+0800
TZOFFSETTO:+0800
TZNAME:AWST
DTSTART:20250101T000000
END:STANDARD
END:VTIMEZONE
BEGIN:VEVENT
DTSTART;VALUE=DATE:20260323
DTEND;VALUE=DATE:20260325
DTSTAMP:20260421T114014
CREATED:20251215T050655Z
LAST-MODIFIED:20251215T050655Z
UID:4924-1774224000-1774396799@mullaloobeachps.wa.edu.au
SUMMARY:Kindy Blue days
DESCRIPTION:
URL:https://mullaloobeachps.wa.edu.au/calendar/kindy-blue-days-8/
CATEGORIES:Kindy Blue
END:VEVENT
BEGIN:VEVENT
DTSTART;VALUE=DATE:20260325
DTEND;VALUE=DATE:20260328
DTSTAMP:20260421T114014
CREATED:20251218T024010Z
LAST-MODIFIED:20251218T024010Z
UID:5071-1774396800-1774655999@mullaloobeachps.wa.edu.au
SUMMARY:Kindy Yellow days
DESCRIPTION:
URL:https://mullaloobeachps.wa.edu.au/calendar/kindy-yellow-days-41/
CATEGORIES:Kindy Yellow
END:VEVENT
BEGIN:VEVENT
DTSTART;VALUE=DATE:20260327
DTEND;VALUE=DATE:20260328
DTSTAMP:20260421T114014
CREATED:20260203T032042Z
LAST-MODIFIED:20260203T032042Z
UID:5105-1774569600-1774655999@mullaloobeachps.wa.edu.au
SUMMARY:Assembly
DESCRIPTION:
URL:https://mullaloobeachps.wa.edu.au/calendar/assembly-8/
CATEGORIES:Assembly
END:VEVENT
BEGIN:VEVENT
DTSTART;VALUE=DATE:20260330
DTEND;VALUE=DATE:20260331
DTSTAMP:20260421T114014
CREATED:20251215T050928Z
LAST-MODIFIED:20260309T055636Z
UID:4927-1774828800-1774915199@mullaloobeachps.wa.edu.au
SUMMARY:Kindy Blue days
DESCRIPTION:
URL:https://mullaloobeachps.wa.edu.au/calendar/kindy-blue-days-9/
CATEGORIES:Kindy Blue
END:VEVENT
BEGIN:VEVENT
DTSTART;VALUE=DATE:20260331
DTEND;VALUE=DATE:20260401
DTSTAMP:20260421T114014
CREATED:20260309T055736Z
LAST-MODIFIED:20260309T055741Z
UID:5159-1774915200-1775001599@mullaloobeachps.wa.edu.au
SUMMARY:Parent Teacher Interview Day - Students do not attend
DESCRIPTION:
URL:https://mullaloobeachps.wa.edu.au/calendar/parent-teacher-interview-day-students-do-not-attend/
CATEGORIES:School Events
END:VEVENT
BEGIN:VEVENT
DTSTART;VALUE=DATE:20260401
DTEND;VALUE=DATE:20260402
DTSTAMP:20260421T114014
CREATED:20260309T055651Z
LAST-MODIFIED:20260309T055651Z
UID:5157-1775001600-1775087999@mullaloobeachps.wa.edu.au
SUMMARY:Kindy Blue days
DESCRIPTION:
URL:https://mullaloobeachps.wa.edu.au/calendar/kindy-blue-days-41/
CATEGORIES:Kindy Blue
END:VEVENT
BEGIN:VEVENT
DTSTART;VALUE=DATE:20260402
DTEND;VALUE=DATE:20260403
DTSTAMP:20260421T114015
CREATED:20251013T061558Z
LAST-MODIFIED:20251013T061558Z
UID:4784-1775088000-1775174399@mullaloobeachps.wa.edu.au
SUMMARY:Last day Term 1
DESCRIPTION:
URL:https://mullaloobeachps.wa.edu.au/calendar/last-day-term-1/
CATEGORIES:Term Dates
END:VEVENT
BEGIN:VEVENT
DTSTART;VALUE=DATE:20260402
DTEND;VALUE=DATE:20260403
DTSTAMP:20260421T114015
CREATED:20251218T020414Z
LAST-MODIFIED:20251218T020414Z
UID:5025-1775088000-1775174399@mullaloobeachps.wa.edu.au
SUMMARY:Kindy Yellow days
DESCRIPTION:
URL:https://mullaloobeachps.wa.edu.au/calendar/kindy-yellow-days-18/
CATEGORIES:Kindy Yellow
END:VEVENT
BEGIN:VEVENT
DTSTART;VALUE=DATE:20260402
DTEND;VALUE=DATE:20260403
DTSTAMP:20260421T114015
CREATED:20260203T032147Z
LAST-MODIFIED:20260203T032147Z
UID:5109-1775088000-1775174399@mullaloobeachps.wa.edu.au
SUMMARY:Easter Parade and Assembly
DESCRIPTION:
URL:https://mullaloobeachps.wa.edu.au/calendar/easter-parade-and-assembly/
CATEGORIES:Assembly
END:VEVENT
BEGIN:VEVENT
DTSTART;VALUE=DATE:20260403
DTEND;VALUE=DATE:20260404
DTSTAMP:20260421T114015
CREATED:20251013T061628Z
LAST-MODIFIED:20251013T061628Z
UID:4786-1775174400-1775260799@mullaloobeachps.wa.edu.au
SUMMARY:Good Friday
DESCRIPTION:
URL:https://mullaloobeachps.wa.edu.au/calendar/good-friday-2/
CATEGORIES:Special Days
END:VEVENT
BEGIN:VEVENT
DTSTART;TZID=Australia/Perth:20260403T080000
DTEND;TZID=Australia/Perth:20260419T170000
DTSTAMP:20260421T114015
CREATED:20251013T060354Z
LAST-MODIFIED:20251013T071405Z
UID:4756-1775203200-1776618000@mullaloobeachps.wa.edu.au
SUMMARY:School Holidays
DESCRIPTION:
URL:https://mullaloobeachps.wa.edu.au/calendar/school-holidays-6/
CATEGORIES:School Holiday dates
END:VEVENT
BEGIN:VEVENT
DTSTART;VALUE=DATE:20260405
DTEND;VALUE=DATE:20260406
DTSTAMP:20260421T114015
CREATED:20251013T061658Z
LAST-MODIFIED:20251013T071543Z
UID:4788-1775347200-1775433599@mullaloobeachps.wa.edu.au
SUMMARY:Easter Sunday
DESCRIPTION:
URL:https://mullaloobeachps.wa.edu.au/calendar/easter-sunday/
CATEGORIES:Special Days
END:VEVENT
BEGIN:VEVENT
DTSTART;VALUE=DATE:20260406
DTEND;VALUE=DATE:20260407
DTSTAMP:20260421T114015
CREATED:20251013T061719Z
LAST-MODIFIED:20251013T061719Z
UID:4790-1775433600-1775519999@mullaloobeachps.wa.edu.au
SUMMARY:Easter Monday
DESCRIPTION:
URL:https://mullaloobeachps.wa.edu.au/calendar/easter-monday-2/
CATEGORIES:Special Days
END:VEVENT
BEGIN:VEVENT
DTSTART;VALUE=DATE:20260420
DTEND;VALUE=DATE:20260421
DTSTAMP:20260421T114015
CREATED:20251013T061531Z
LAST-MODIFIED:20251013T061531Z
UID:4782-1776643200-1776729599@mullaloobeachps.wa.edu.au
SUMMARY:First day of Term 2
DESCRIPTION:
URL:https://mullaloobeachps.wa.edu.au/calendar/first-day-of-term-2/
CATEGORIES:Term Dates
END:VEVENT
BEGIN:VEVENT
DTSTART;VALUE=DATE:20260420
DTEND;VALUE=DATE:20260422
DTSTAMP:20260421T114015
CREATED:20251215T051008Z
LAST-MODIFIED:20251215T051008Z
UID:4929-1776643200-1776815999@mullaloobeachps.wa.edu.au
SUMMARY:Kindy Blue days
DESCRIPTION:
URL:https://mullaloobeachps.wa.edu.au/calendar/kindy-blue-days-10/
CATEGORIES:Kindy Blue
END:VEVENT
BEGIN:VEVENT
DTSTART;VALUE=DATE:20260421
DTEND;VALUE=DATE:20260422
DTSTAMP:20260421T114015
CREATED:20260203T032359Z
LAST-MODIFIED:20260203T032359Z
UID:5113-1776729600-1776815999@mullaloobeachps.wa.edu.au
SUMMARY:ANZAC Day Ceremony and Choir
DESCRIPTION:
URL:https://mullaloobeachps.wa.edu.au/calendar/anzac-day-ceremony-and-choir/
CATEGORIES:Assembly
END:VEVENT
BEGIN:VEVENT
DTSTART;VALUE=DATE:20260422
DTEND;VALUE=DATE:20260425
DTSTAMP:20260421T114015
CREATED:20251218T021219Z
LAST-MODIFIED:20251218T021219Z
UID:5027-1776816000-1777075199@mullaloobeachps.wa.edu.au
SUMMARY:Kindy Yellow days
DESCRIPTION:
URL:https://mullaloobeachps.wa.edu.au/calendar/kindy-yellow-days-19/
CATEGORIES:Kindy Yellow
END:VEVENT
BEGIN:VEVENT
DTSTART;VALUE=DATE:20260427
DTEND;VALUE=DATE:20260428
DTSTAMP:20260421T114015
CREATED:20251013T071515Z
LAST-MODIFIED:20251013T071515Z
UID:4800-1777248000-1777334399@mullaloobeachps.wa.edu.au
SUMMARY:Anzac Day Public Holiday (students do not attend)
DESCRIPTION:
URL:https://mullaloobeachps.wa.edu.au/calendar/anzac-day-public-holiday-students-do-not-attend/
CATEGORIES:Special Days
END:VEVENT
BEGIN:VEVENT
DTSTART;VALUE=DATE:20260428
DTEND;VALUE=DATE:20260430
DTSTAMP:20260421T114015
CREATED:20251215T051032Z
LAST-MODIFIED:20251215T051032Z
UID:4931-1777334400-1777507199@mullaloobeachps.wa.edu.au
SUMMARY:Kindy Blue days
DESCRIPTION:
URL:https://mullaloobeachps.wa.edu.au/calendar/kindy-blue-days-11/
CATEGORIES:Kindy Blue
END:VEVENT
BEGIN:VEVENT
DTSTART;VALUE=DATE:20260430
DTEND;VALUE=DATE:20260502
DTSTAMP:20260421T114015
CREATED:20251218T022441Z
LAST-MODIFIED:20251218T022441Z
UID:5029-1777507200-1777679999@mullaloobeachps.wa.edu.au
SUMMARY:Kindy Yellow days
DESCRIPTION:
URL:https://mullaloobeachps.wa.edu.au/calendar/kindy-yellow-days-20/
CATEGORIES:Kindy Yellow
END:VEVENT
BEGIN:VEVENT
DTSTART;VALUE=DATE:20260501
DTEND;VALUE=DATE:20260502
DTSTAMP:20260421T114015
CREATED:20260203T032529Z
LAST-MODIFIED:20260204T042612Z
UID:5115-1777593600-1777679999@mullaloobeachps.wa.edu.au
SUMMARY:Yr 6 Rm 9 Assembly
DESCRIPTION:
URL:https://mullaloobeachps.wa.edu.au/calendar/assembly-10/
CATEGORIES:Assembly
END:VEVENT
BEGIN:VEVENT
DTSTART;VALUE=DATE:20260504
DTEND;VALUE=DATE:20260506
DTSTAMP:20260421T114015
CREATED:20251215T051059Z
LAST-MODIFIED:20251215T051059Z
UID:4933-1777852800-1778025599@mullaloobeachps.wa.edu.au
SUMMARY:Kindy Blue days
DESCRIPTION:
URL:https://mullaloobeachps.wa.edu.au/calendar/kindy-blue-days-12/
CATEGORIES:Kindy Blue
END:VEVENT
BEGIN:VEVENT
DTSTART;VALUE=DATE:20260506
DTEND;VALUE=DATE:20260509
DTSTAMP:20260421T114015
CREATED:20251218T022504Z
LAST-MODIFIED:20251218T022504Z
UID:5031-1778025600-1778284799@mullaloobeachps.wa.edu.au
SUMMARY:Kindy Yellow days
DESCRIPTION:
URL:https://mullaloobeachps.wa.edu.au/calendar/kindy-yellow-days-21/
CATEGORIES:Kindy Yellow
END:VEVENT
BEGIN:VEVENT
DTSTART;VALUE=DATE:20260511
DTEND;VALUE=DATE:20260514
DTSTAMP:20260421T114015
CREATED:20251215T051124Z
LAST-MODIFIED:20251215T051124Z
UID:4935-1778457600-1778716799@mullaloobeachps.wa.edu.au
SUMMARY:Kindy Blue days
DESCRIPTION:
URL:https://mullaloobeachps.wa.edu.au/calendar/kindy-blue-days-13/
CATEGORIES:Kindy Blue
END:VEVENT
BEGIN:VEVENT
DTSTART;VALUE=DATE:20260514
DTEND;VALUE=DATE:20260516
DTSTAMP:20260421T114015
CREATED:20251218T022526Z
LAST-MODIFIED:20251218T022526Z
UID:5033-1778716800-1778889599@mullaloobeachps.wa.edu.au
SUMMARY:Kindy Yellow days
DESCRIPTION:
URL:https://mullaloobeachps.wa.edu.au/calendar/kindy-yellow-days-22/
CATEGORIES:Kindy Yellow
END:VEVENT
BEGIN:VEVENT
DTSTART;VALUE=DATE:20260515
DTEND;VALUE=DATE:20260516
DTSTAMP:20260421T114015
CREATED:20260203T032553Z
LAST-MODIFIED:20260204T042655Z
UID:5117-1778803200-1778889599@mullaloobeachps.wa.edu.au
SUMMARY:Y3 Rm 5 Assembly
DESCRIPTION:
URL:https://mullaloobeachps.wa.edu.au/calendar/assembly-11/
CATEGORIES:Assembly
END:VEVENT
BEGIN:VEVENT
DTSTART;VALUE=DATE:20260518
DTEND;VALUE=DATE:20260520
DTSTAMP:20260421T114015
CREATED:20251215T051205Z
LAST-MODIFIED:20251215T051205Z
UID:4937-1779062400-1779235199@mullaloobeachps.wa.edu.au
SUMMARY:Kindy Blue days
DESCRIPTION:
URL:https://mullaloobeachps.wa.edu.au/calendar/kindy-blue-days-14/
CATEGORIES:Kindy Blue
END:VEVENT
BEGIN:VEVENT
DTSTART;VALUE=DATE:20260520
DTEND;VALUE=DATE:20260523
DTSTAMP:20260421T114015
CREATED:20251218T022611Z
LAST-MODIFIED:20251218T022611Z
UID:5035-1779235200-1779494399@mullaloobeachps.wa.edu.au
SUMMARY:Kindy Yellow days
DESCRIPTION:
URL:https://mullaloobeachps.wa.edu.au/calendar/kindy-yellow-days-23/
CATEGORIES:Kindy Yellow
END:VEVENT
BEGIN:VEVENT
DTSTART;VALUE=DATE:20260525
DTEND;VALUE=DATE:20260528
DTSTAMP:20260421T114015
CREATED:20251215T051229Z
LAST-MODIFIED:20251215T051229Z
UID:4939-1779667200-1779926399@mullaloobeachps.wa.edu.au
SUMMARY:Kindy Blue days
DESCRIPTION:
URL:https://mullaloobeachps.wa.edu.au/calendar/kindy-blue-days-15/
CATEGORIES:Kindy Blue
END:VEVENT
BEGIN:VEVENT
DTSTART;VALUE=DATE:20260528
DTEND;VALUE=DATE:20260529
DTSTAMP:20260421T114015
CREATED:20251218T022635Z
LAST-MODIFIED:20251218T022635Z
UID:5037-1779926400-1780012799@mullaloobeachps.wa.edu.au
SUMMARY:Kindy Yellow days
DESCRIPTION:
URL:https://mullaloobeachps.wa.edu.au/calendar/kindy-yellow-days-24/
CATEGORIES:Kindy Yellow
END:VEVENT
END:VCALENDAR