BEGIN:VCALENDAR
VERSION:2.0
PRODID:-//Mullaloo Beach Primary School - ECPv6.15.17//NONSGML v1.0//EN
CALSCALE:GREGORIAN
METHOD:PUBLISH
X-WR-CALNAME:Mullaloo Beach Primary School
X-ORIGINAL-URL:https://mullaloobeachps.wa.edu.au
X-WR-CALDESC:Events for Mullaloo Beach Primary School
REFRESH-INTERVAL;VALUE=DURATION:PT1H
X-Robots-Tag:noindex
X-PUBLISHED-TTL:PT1H
BEGIN:VTIMEZONE
TZID:Australia/Perth
BEGIN:STANDARD
TZOFFSETFROM:+0800
TZOFFSETTO:+0800
TZNAME:AWST
DTSTART:20240101T000000
END:STANDARD
END:VTIMEZONE
BEGIN:VEVENT
DTSTART;VALUE=DATE:20250902
DTEND;VALUE=DATE:20250903
DTSTAMP:20260420T221204
CREATED:20250721T041021Z
LAST-MODIFIED:20250721T041021Z
UID:4533-1756771200-1756857599@mullaloobeachps.wa.edu.au
SUMMARY:Choir 08:15am
DESCRIPTION:
URL:https://mullaloobeachps.wa.edu.au/calendar/choir-0815am-15/
CATEGORIES:School Events
END:VEVENT
BEGIN:VEVENT
DTSTART;VALUE=DATE:20250829
DTEND;VALUE=DATE:20250830
DTSTAMP:20260420T221204
CREATED:20250220T003038Z
LAST-MODIFIED:20250821T035341Z
UID:4161-1756425600-1756511999@mullaloobeachps.wa.edu.au
SUMMARY:One Big Voice
DESCRIPTION:One Big Voice 2025
URL:https://mullaloobeachps.wa.edu.au/calendar/one-big-voice/
CATEGORIES:School Events
END:VEVENT
BEGIN:VEVENT
DTSTART;VALUE=DATE:20250826
DTEND;VALUE=DATE:20250827
DTSTAMP:20260420T221204
CREATED:20250721T041902Z
LAST-MODIFIED:20250721T041902Z
UID:4561-1756166400-1756252799@mullaloobeachps.wa.edu.au
SUMMARY:Edu Dance
DESCRIPTION:
URL:https://mullaloobeachps.wa.edu.au/calendar/edu-dance-11/
CATEGORIES:School Events
END:VEVENT
BEGIN:VEVENT
DTSTART;VALUE=DATE:20250826
DTEND;VALUE=DATE:20250827
DTSTAMP:20260420T221204
CREATED:20250721T040957Z
LAST-MODIFIED:20250721T040957Z
UID:4531-1756166400-1756252799@mullaloobeachps.wa.edu.au
SUMMARY:Choir 08:15am
DESCRIPTION:
URL:https://mullaloobeachps.wa.edu.au/calendar/choir-0815am-14/
CATEGORIES:School Events
END:VEVENT
BEGIN:VEVENT
DTSTART;VALUE=DATE:20250825
DTEND;VALUE=DATE:20250826
DTSTAMP:20260420T221204
CREATED:20250721T041841Z
LAST-MODIFIED:20250721T041841Z
UID:4559-1756080000-1756166399@mullaloobeachps.wa.edu.au
SUMMARY:Edu Dance
DESCRIPTION:
URL:https://mullaloobeachps.wa.edu.au/calendar/edu-dance-10/
CATEGORIES:School Events
END:VEVENT
BEGIN:VEVENT
DTSTART;VALUE=DATE:20250822
DTEND;VALUE=DATE:20250823
DTSTAMP:20260420T221204
CREATED:20250721T041708Z
LAST-MODIFIED:20250721T041818Z
UID:4557-1755820800-1755907199@mullaloobeachps.wa.edu.au
SUMMARY:Edu Dance
DESCRIPTION:
URL:https://mullaloobeachps.wa.edu.au/calendar/edu-dance-9/
CATEGORIES:School Events
END:VEVENT
BEGIN:VEVENT
DTSTART;VALUE=DATE:20250819
DTEND;VALUE=DATE:20250822
DTSTAMP:20260420T221204
CREATED:20241021T074751Z
LAST-MODIFIED:20250312T054631Z
UID:3712-1755561600-1755820799@mullaloobeachps.wa.edu.au
SUMMARY:2025 School Photos
DESCRIPTION:
URL:https://mullaloobeachps.wa.edu.au/calendar/2025-photo-dates-tbc/
CATEGORIES:School Events
END:VEVENT
BEGIN:VEVENT
DTSTART;VALUE=DATE:20250819
DTEND;VALUE=DATE:20250820
DTSTAMP:20260420T221204
CREATED:20250721T040932Z
LAST-MODIFIED:20250721T040932Z
UID:4529-1755561600-1755647999@mullaloobeachps.wa.edu.au
SUMMARY:Choir 08:15am
DESCRIPTION:
URL:https://mullaloobeachps.wa.edu.au/calendar/choir-0815am-13/
CATEGORIES:School Events
END:VEVENT
BEGIN:VEVENT
DTSTART;VALUE=DATE:20250818
DTEND;VALUE=DATE:20250819
DTSTAMP:20260420T221204
CREATED:20250721T041634Z
LAST-MODIFIED:20250721T041634Z
UID:4555-1755475200-1755561599@mullaloobeachps.wa.edu.au
SUMMARY:Edu Dance
DESCRIPTION:
URL:https://mullaloobeachps.wa.edu.au/calendar/edu-dance-8/
CATEGORIES:School Events
END:VEVENT
BEGIN:VEVENT
DTSTART;VALUE=DATE:20250812
DTEND;VALUE=DATE:20250813
DTSTAMP:20260420T221204
CREATED:20250721T040905Z
LAST-MODIFIED:20250721T040905Z
UID:4527-1754956800-1755043199@mullaloobeachps.wa.edu.au
SUMMARY:Choir 08:15am
DESCRIPTION:
URL:https://mullaloobeachps.wa.edu.au/calendar/choir-0815am-12/
CATEGORIES:School Events
END:VEVENT
BEGIN:VEVENT
DTSTART;VALUE=DATE:20250811
DTEND;VALUE=DATE:20250812
DTSTAMP:20260420T221204
CREATED:20250721T041546Z
LAST-MODIFIED:20250721T041546Z
UID:4551-1754870400-1754956799@mullaloobeachps.wa.edu.au
SUMMARY:Edu Dance
DESCRIPTION:
URL:https://mullaloobeachps.wa.edu.au/calendar/edu-dance-6/
CATEGORIES:School Events
END:VEVENT
BEGIN:VEVENT
DTSTART;VALUE=DATE:20250805
DTEND;VALUE=DATE:20250806
DTSTAMP:20260420T221204
CREATED:20250721T041444Z
LAST-MODIFIED:20250721T041444Z
UID:4547-1754352000-1754438399@mullaloobeachps.wa.edu.au
SUMMARY:Edu Dance
DESCRIPTION:
URL:https://mullaloobeachps.wa.edu.au/calendar/edu-dance-5/
CATEGORIES:School Events
END:VEVENT
BEGIN:VEVENT
DTSTART;VALUE=DATE:20250805
DTEND;VALUE=DATE:20250806
DTSTAMP:20260420T221204
CREATED:20250721T040838Z
LAST-MODIFIED:20250721T040838Z
UID:4525-1754352000-1754438399@mullaloobeachps.wa.edu.au
SUMMARY:Choir 08:15am
DESCRIPTION:
URL:https://mullaloobeachps.wa.edu.au/calendar/choir-0815am-11/
CATEGORIES:School Events
END:VEVENT
BEGIN:VEVENT
DTSTART;TZID=Australia/Perth:20250804T080000
DTEND;TZID=Australia/Perth:20250808T170000
DTSTAMP:20260420T221204
CREATED:20250220T012203Z
LAST-MODIFIED:20250220T012203Z
UID:4163-1754294400-1754672400@mullaloobeachps.wa.edu.au
SUMMARY:Science Week
DESCRIPTION:
URL:https://mullaloobeachps.wa.edu.au/calendar/science-week-2/
CATEGORIES:School Events
END:VEVENT
BEGIN:VEVENT
DTSTART;VALUE=DATE:20250804
DTEND;VALUE=DATE:20250805
DTSTAMP:20260420T221204
CREATED:20250721T041422Z
LAST-MODIFIED:20250721T041422Z
UID:4545-1754265600-1754351999@mullaloobeachps.wa.edu.au
SUMMARY:Edu Dance
DESCRIPTION:
URL:https://mullaloobeachps.wa.edu.au/calendar/edu-dance-4/
CATEGORIES:School Events
END:VEVENT
BEGIN:VEVENT
DTSTART;TZID=Australia/Perth:20250801T090000
DTEND;TZID=Australia/Perth:20250801T123000
DTSTAMP:20260420T221204
CREATED:20250721T041341Z
LAST-MODIFIED:20250721T041341Z
UID:4543-1754038800-1754051400@mullaloobeachps.wa.edu.au
SUMMARY:Interschool Cross Country
DESCRIPTION:
URL:https://mullaloobeachps.wa.edu.au/calendar/interschool-cross-country/
CATEGORIES:School Events
END:VEVENT
BEGIN:VEVENT
DTSTART;VALUE=DATE:20250729
DTEND;VALUE=DATE:20250730
DTSTAMP:20260420T221204
CREATED:20250721T041252Z
LAST-MODIFIED:20250721T041252Z
UID:4541-1753747200-1753833599@mullaloobeachps.wa.edu.au
SUMMARY:Edu Dance
DESCRIPTION:
URL:https://mullaloobeachps.wa.edu.au/calendar/edu-dance-3/
CATEGORIES:School Events
END:VEVENT
BEGIN:VEVENT
DTSTART;VALUE=DATE:20250729
DTEND;VALUE=DATE:20250730
DTSTAMP:20260420T221204
CREATED:20250721T040813Z
LAST-MODIFIED:20250721T040813Z
UID:4523-1753747200-1753833599@mullaloobeachps.wa.edu.au
SUMMARY:Choir 08:15am
DESCRIPTION:
URL:https://mullaloobeachps.wa.edu.au/calendar/choir-0815am-10/
CATEGORIES:School Events
END:VEVENT
BEGIN:VEVENT
DTSTART;VALUE=DATE:20250724
DTEND;VALUE=DATE:20250725
DTSTAMP:20260420T221204
CREATED:20250721T040540Z
LAST-MODIFIED:20250721T040710Z
UID:4521-1753315200-1753401599@mullaloobeachps.wa.edu.au
SUMMARY:Edu Dance
DESCRIPTION:
URL:https://mullaloobeachps.wa.edu.au/calendar/edu-dance-2/
CATEGORIES:School Events
END:VEVENT
BEGIN:VEVENT
DTSTART;VALUE=DATE:20250722
DTEND;VALUE=DATE:20250723
DTSTAMP:20260420T221204
CREATED:20250721T040512Z
LAST-MODIFIED:20250721T040641Z
UID:4519-1753142400-1753228799@mullaloobeachps.wa.edu.au
SUMMARY:Edu Dance
DESCRIPTION:
URL:https://mullaloobeachps.wa.edu.au/calendar/edu-dance/
CATEGORIES:School Events
END:VEVENT
BEGIN:VEVENT
DTSTART;VALUE=DATE:20250703
DTEND;VALUE=DATE:20250704
DTSTAMP:20260420T221204
CREATED:20250220T012552Z
LAST-MODIFIED:20250613T041421Z
UID:4169-1751500800-1751587199@mullaloobeachps.wa.edu.au
SUMMARY:Cross Country
DESCRIPTION:MBPS cross country 2025 parent letter
URL:https://mullaloobeachps.wa.edu.au/calendar/cross-country/
CATEGORIES:School Events
END:VEVENT
BEGIN:VEVENT
DTSTART;VALUE=DATE:20250701
DTEND;VALUE=DATE:20250702
DTSTAMP:20260420T221204
CREATED:20250430T031503Z
LAST-MODIFIED:20250430T031503Z
UID:4389-1751328000-1751414399@mullaloobeachps.wa.edu.au
SUMMARY:Choir 0815am
DESCRIPTION:
URL:https://mullaloobeachps.wa.edu.au/calendar/choir-0815am-9/
CATEGORIES:School Events
END:VEVENT
BEGIN:VEVENT
DTSTART;TZID=Australia/Perth:20250630T080000
DTEND;TZID=Australia/Perth:20250704T170000
DTSTAMP:20260420T221204
CREATED:20250220T012444Z
LAST-MODIFIED:20250220T012444Z
UID:4167-1751270400-1751648400@mullaloobeachps.wa.edu.au
SUMMARY:NAIDOC Week
DESCRIPTION:
URL:https://mullaloobeachps.wa.edu.au/calendar/naidoc-week/
CATEGORIES:School Events
END:VEVENT
BEGIN:VEVENT
DTSTART;VALUE=DATE:20250626
DTEND;VALUE=DATE:20250627
DTSTAMP:20260420T221204
CREATED:20250429T034052Z
LAST-MODIFIED:20250505T050636Z
UID:4364-1750896000-1750982399@mullaloobeachps.wa.edu.au
SUMMARY:Running Club 7:30am-8:30am
DESCRIPTION:
URL:https://mullaloobeachps.wa.edu.au/calendar/running-club-8/
CATEGORIES:School Events
END:VEVENT
BEGIN:VEVENT
DTSTART;VALUE=DATE:20250624
DTEND;VALUE=DATE:20250625
DTSTAMP:20260420T221204
CREATED:20250430T031433Z
LAST-MODIFIED:20250430T031433Z
UID:4387-1750723200-1750809599@mullaloobeachps.wa.edu.au
SUMMARY:Choir 0815am
DESCRIPTION:
URL:https://mullaloobeachps.wa.edu.au/calendar/choir-0815am-8/
CATEGORIES:School Events
END:VEVENT
BEGIN:VEVENT
DTSTART;VALUE=DATE:20250619
DTEND;VALUE=DATE:20250620
DTSTAMP:20260420T221204
CREATED:20250429T034024Z
LAST-MODIFIED:20250505T050540Z
UID:4362-1750291200-1750377599@mullaloobeachps.wa.edu.au
SUMMARY:Running Club 7:30am-8:30am
DESCRIPTION:
URL:https://mullaloobeachps.wa.edu.au/calendar/running-club-7/
CATEGORIES:School Events
END:VEVENT
BEGIN:VEVENT
DTSTART;VALUE=DATE:20250617
DTEND;VALUE=DATE:20250618
DTSTAMP:20260420T221204
CREATED:20250430T031408Z
LAST-MODIFIED:20250430T031408Z
UID:4385-1750118400-1750204799@mullaloobeachps.wa.edu.au
SUMMARY:Choir 0815am
DESCRIPTION:
URL:https://mullaloobeachps.wa.edu.au/calendar/choir-0815am-7/
CATEGORIES:School Events
END:VEVENT
BEGIN:VEVENT
DTSTART;VALUE=DATE:20250612
DTEND;VALUE=DATE:20250613
DTSTAMP:20260420T221204
CREATED:20250429T033956Z
LAST-MODIFIED:20250505T050438Z
UID:4360-1749686400-1749772799@mullaloobeachps.wa.edu.au
SUMMARY:Running Club 7:30am-8:30am
DESCRIPTION:
URL:https://mullaloobeachps.wa.edu.au/calendar/running-club-6/
CATEGORIES:School Events
END:VEVENT
BEGIN:VEVENT
DTSTART;VALUE=DATE:20250610
DTEND;VALUE=DATE:20250611
DTSTAMP:20260420T221204
CREATED:20250430T031345Z
LAST-MODIFIED:20250430T031345Z
UID:4383-1749513600-1749599999@mullaloobeachps.wa.edu.au
SUMMARY:Choir 0815am
DESCRIPTION:
URL:https://mullaloobeachps.wa.edu.au/calendar/choir-0815am-6/
CATEGORIES:School Events
END:VEVENT
BEGIN:VEVENT
DTSTART;VALUE=DATE:20250605
DTEND;VALUE=DATE:20250606
DTSTAMP:20260420T221204
CREATED:20250429T033928Z
LAST-MODIFIED:20250505T050403Z
UID:4358-1749081600-1749167999@mullaloobeachps.wa.edu.au
SUMMARY:Running Club 7:30am-8:30am
DESCRIPTION:
URL:https://mullaloobeachps.wa.edu.au/calendar/running-club-5/
CATEGORIES:School Events
END:VEVENT
END:VCALENDAR