BEGIN:VCALENDAR
VERSION:2.0
PRODID:-//Mullaloo Beach Primary School - ECPv6.15.17//NONSGML v1.0//EN
CALSCALE:GREGORIAN
METHOD:PUBLISH
X-ORIGINAL-URL:https://mullaloobeachps.wa.edu.au
X-WR-CALDESC:Events for Mullaloo Beach Primary School
REFRESH-INTERVAL;VALUE=DURATION:PT1H
X-Robots-Tag:noindex
X-PUBLISHED-TTL:PT1H
BEGIN:VTIMEZONE
TZID:Australia/Perth
BEGIN:STANDARD
TZOFFSETFROM:+0800
TZOFFSETTO:+0800
TZNAME:AWST
DTSTART:20240101T000000
END:STANDARD
END:VTIMEZONE
BEGIN:VEVENT
DTSTART;VALUE=DATE:20260331
DTEND;VALUE=DATE:20260401
DTSTAMP:20260420T112601
CREATED:20260309T055736Z
LAST-MODIFIED:20260309T055741Z
UID:5159-1774915200-1775001599@mullaloobeachps.wa.edu.au
SUMMARY:Parent Teacher Interview Day - Students do not attend
DESCRIPTION:
URL:https://mullaloobeachps.wa.edu.au/calendar/parent-teacher-interview-day-students-do-not-attend/
CATEGORIES:School Events
END:VEVENT
BEGIN:VEVENT
DTSTART;TZID=Australia/Perth:20260219T160000
DTEND;TZID=Australia/Perth:20260219T163000
DTSTAMP:20260420T112601
CREATED:20260203T025705Z
LAST-MODIFIED:20260203T025705Z
UID:5093-1771516800-1771518600@mullaloobeachps.wa.edu.au
SUMMARY:Parent Information Session Room 10 (Yr4/5) & Room 11 (Yr4)
DESCRIPTION:
URL:https://mullaloobeachps.wa.edu.au/calendar/parent-information-session-room-10-yr4-5-room-11-yr4/
CATEGORIES:School Events
END:VEVENT
BEGIN:VEVENT
DTSTART;TZID=Australia/Perth:20260218T160000
DTEND;TZID=Australia/Perth:20260218T163000
DTSTAMP:20260420T112601
CREATED:20260203T025613Z
LAST-MODIFIED:20260203T025613Z
UID:5091-1771430400-1771432200@mullaloobeachps.wa.edu.au
SUMMARY:Parent Information Session Room PP1 & PP2
DESCRIPTION:
URL:https://mullaloobeachps.wa.edu.au/calendar/parent-information-session-room-pp1-pp2/
CATEGORIES:School Events
END:VEVENT
BEGIN:VEVENT
DTSTART;TZID=Australia/Perth:20260217T160000
DTEND;TZID=Australia/Perth:20260217T163000
DTSTAMP:20260420T112601
CREATED:20260203T025540Z
LAST-MODIFIED:20260203T025540Z
UID:5089-1771344000-1771345800@mullaloobeachps.wa.edu.au
SUMMARY:Parent Information Session Room 1&2(Yr1)
DESCRIPTION:
URL:https://mullaloobeachps.wa.edu.au/calendar/parent-information-session-room-12yr1/
CATEGORIES:School Events
END:VEVENT
BEGIN:VEVENT
DTSTART;TZID=Australia/Perth:20260212T160000
DTEND;TZID=Australia/Perth:20260212T163000
DTSTAMP:20260420T112601
CREATED:20260203T025453Z
LAST-MODIFIED:20260203T025856Z
UID:5087-1770912000-1770913800@mullaloobeachps.wa.edu.au
SUMMARY:Parent Information Session Room 8 (Yr5) & Room 9 (Yr6)
DESCRIPTION:
URL:https://mullaloobeachps.wa.edu.au/calendar/parent-information-session-room-89/
CATEGORIES:School Events
END:VEVENT
BEGIN:VEVENT
DTSTART;TZID=Australia/Perth:20260211T163000
DTEND;TZID=Australia/Perth:20260211T170000
DTSTAMP:20260420T112601
CREATED:20260203T025416Z
LAST-MODIFIED:20260203T025811Z
UID:5085-1770827400-1770829200@mullaloobeachps.wa.edu.au
SUMMARY:Parent Information Session Room 3&4 (Yr2)
DESCRIPTION:
URL:https://mullaloobeachps.wa.edu.au/calendar/parent-information-session-room-34/
CATEGORIES:School Events
END:VEVENT
BEGIN:VEVENT
DTSTART;TZID=Australia/Perth:20260211T160000
DTEND;TZID=Australia/Perth:20260211T163000
DTSTAMP:20260420T112601
CREATED:20260203T025337Z
LAST-MODIFIED:20260203T025734Z
UID:5083-1770825600-1770827400@mullaloobeachps.wa.edu.au
SUMMARY:Parent Information Session Room 5&6 (Yr3)
DESCRIPTION:
URL:https://mullaloobeachps.wa.edu.au/calendar/parent-information-session-room-56/
CATEGORIES:School Events
END:VEVENT
BEGIN:VEVENT
DTSTART;VALUE=DATE:20251218
DTEND;VALUE=DATE:20251219
DTSTAMP:20260420T112601
CREATED:20250220T013942Z
LAST-MODIFIED:20251202T071103Z
UID:4181-1766016000-1766102399@mullaloobeachps.wa.edu.au
SUMMARY:Talent Show 8.45am
DESCRIPTION:
URL:https://mullaloobeachps.wa.edu.au/calendar/talent-show/
CATEGORIES:School Events
END:VEVENT
BEGIN:VEVENT
DTSTART;VALUE=DATE:20251215
DTEND;VALUE=DATE:20251218
DTSTAMP:20260420T112601
CREATED:20250219T014801Z
LAST-MODIFIED:20251202T071512Z
UID:4155-1765756800-1766015999@mullaloobeachps.wa.edu.au
SUMMARY:Swimming Yr5&6
DESCRIPTION:
URL:https://mullaloobeachps.wa.edu.au/calendar/swimming-yr56/
CATEGORIES:School Events
END:VEVENT
BEGIN:VEVENT
DTSTART;VALUE=DATE:20251212
DTEND;VALUE=DATE:20251213
DTSTAMP:20260420T112601
CREATED:20250219T014448Z
LAST-MODIFIED:20251202T071023Z
UID:4149-1765497600-1765583999@mullaloobeachps.wa.edu.au
SUMMARY:End of Year Concert 8.45am
DESCRIPTION:
URL:https://mullaloobeachps.wa.edu.au/calendar/end-of-year-concert/
CATEGORIES:School Events
END:VEVENT
BEGIN:VEVENT
DTSTART;VALUE=DATE:20251208
DTEND;VALUE=DATE:20251213
DTSTAMP:20260420T112601
CREATED:20250219T014705Z
LAST-MODIFIED:20251202T071437Z
UID:4153-1765152000-1765583999@mullaloobeachps.wa.edu.au
SUMMARY:Swimming Y5&6
DESCRIPTION:
URL:https://mullaloobeachps.wa.edu.au/calendar/swimming-y56/
CATEGORIES:School Events
END:VEVENT
BEGIN:VEVENT
DTSTART;VALUE=DATE:20251205
DTEND;VALUE=DATE:20251206
DTSTAMP:20260420T112601
CREATED:20250219T014401Z
LAST-MODIFIED:20251117T062043Z
UID:4147-1764892800-1764979199@mullaloobeachps.wa.edu.au
SUMMARY:Book Awards 8:45am
DESCRIPTION:
URL:https://mullaloobeachps.wa.edu.au/calendar/book-awards/
CATEGORIES:Assembly,School Events
END:VEVENT
BEGIN:VEVENT
DTSTART;VALUE=DATE:20251024
DTEND;VALUE=DATE:20251025
DTSTAMP:20260420T112601
CREATED:20250220T012631Z
LAST-MODIFIED:20251016T050824Z
UID:4171-1761264000-1761350399@mullaloobeachps.wa.edu.au
SUMMARY:Interschool Carnival Forest Park
DESCRIPTION:MBPS interschool permission participants 2025
URL:https://mullaloobeachps.wa.edu.au/calendar/interschool-carnival/
CATEGORIES:School Events
END:VEVENT
BEGIN:VEVENT
DTSTART;VALUE=DATE:20251022
DTEND;VALUE=DATE:20251023
DTSTAMP:20260420T112601
CREATED:20250822T023443Z
LAST-MODIFIED:20250825T043244Z
UID:4673-1761091200-1761177599@mullaloobeachps.wa.edu.au
SUMMARY:Interschool Jumps & Throws @MBPS
DESCRIPTION:
URL:https://mullaloobeachps.wa.edu.au/calendar/interschool-jumps-and-throws/
CATEGORIES:School Events
END:VEVENT
BEGIN:VEVENT
DTSTART;VALUE=DATE:20250923
DTEND;VALUE=DATE:20250924
DTSTAMP:20260420T112601
CREATED:20250721T041159Z
LAST-MODIFIED:20250721T041159Z
UID:4539-1758585600-1758671999@mullaloobeachps.wa.edu.au
SUMMARY:Choir 08:15am
DESCRIPTION:
URL:https://mullaloobeachps.wa.edu.au/calendar/choir-0815am-18/
CATEGORIES:School Events
END:VEVENT
BEGIN:VEVENT
DTSTART;VALUE=DATE:20250922
DTEND;VALUE=DATE:20250923
DTSTAMP:20260420T112601
CREATED:20250721T042134Z
LAST-MODIFIED:20250721T042134Z
UID:4575-1758499200-1758585599@mullaloobeachps.wa.edu.au
SUMMARY:Edu Dance
DESCRIPTION:
URL:https://mullaloobeachps.wa.edu.au/calendar/edu-dance-18/
CATEGORIES:School Events
END:VEVENT
BEGIN:VEVENT
DTSTART;VALUE=DATE:20250916
DTEND;VALUE=DATE:20250917
DTSTAMP:20260420T112601
CREATED:20250721T042102Z
LAST-MODIFIED:20250721T042102Z
UID:4573-1757980800-1758067199@mullaloobeachps.wa.edu.au
SUMMARY:Edu Dance
DESCRIPTION:
URL:https://mullaloobeachps.wa.edu.au/calendar/edu-dance-17/
CATEGORIES:School Events
END:VEVENT
BEGIN:VEVENT
DTSTART;VALUE=DATE:20250916
DTEND;VALUE=DATE:20250917
DTSTAMP:20260420T112601
CREATED:20250721T041142Z
LAST-MODIFIED:20250721T041142Z
UID:4537-1757980800-1758067199@mullaloobeachps.wa.edu.au
SUMMARY:Choir 08:15am
DESCRIPTION:
URL:https://mullaloobeachps.wa.edu.au/calendar/choir-0815am-17/
CATEGORIES:School Events
END:VEVENT
BEGIN:VEVENT
DTSTART;VALUE=DATE:20250915
DTEND;VALUE=DATE:20250916
DTSTAMP:20260420T112601
CREATED:20250721T042043Z
LAST-MODIFIED:20250721T043920Z
UID:4571-1757894400-1757980799@mullaloobeachps.wa.edu.au
SUMMARY:Edu Dance
DESCRIPTION:
URL:https://mullaloobeachps.wa.edu.au/calendar/edu-dance-16/
CATEGORIES:School Events
END:VEVENT
BEGIN:VEVENT
DTSTART;VALUE=DATE:20250909
DTEND;VALUE=DATE:20250910
DTSTAMP:20260420T112601
CREATED:20250721T042025Z
LAST-MODIFIED:20250721T042025Z
UID:4569-1757376000-1757462399@mullaloobeachps.wa.edu.au
SUMMARY:Edu Dance
DESCRIPTION:
URL:https://mullaloobeachps.wa.edu.au/calendar/edu-dance-15/
CATEGORIES:School Events
END:VEVENT
BEGIN:VEVENT
DTSTART;VALUE=DATE:20250909
DTEND;VALUE=DATE:20250910
DTSTAMP:20260420T112601
CREATED:20250721T041119Z
LAST-MODIFIED:20250721T041119Z
UID:4535-1757376000-1757462399@mullaloobeachps.wa.edu.au
SUMMARY:Choir 08:15am
DESCRIPTION:
URL:https://mullaloobeachps.wa.edu.au/calendar/choir-0815am-16/
CATEGORIES:School Events
END:VEVENT
BEGIN:VEVENT
DTSTART;VALUE=DATE:20250908
DTEND;VALUE=DATE:20250909
DTSTAMP:20260420T112601
CREATED:20250721T042003Z
LAST-MODIFIED:20250721T042003Z
UID:4567-1757289600-1757375999@mullaloobeachps.wa.edu.au
SUMMARY:Edu Dance
DESCRIPTION:
URL:https://mullaloobeachps.wa.edu.au/calendar/edu-dance-14/
CATEGORIES:School Events
END:VEVENT
BEGIN:VEVENT
DTSTART;VALUE=DATE:20250905
DTEND;VALUE=DATE:20250906
DTSTAMP:20260420T112601
CREATED:20250721T041943Z
LAST-MODIFIED:20250721T041943Z
UID:4565-1757030400-1757116799@mullaloobeachps.wa.edu.au
SUMMARY:Edu Dance
DESCRIPTION:
URL:https://mullaloobeachps.wa.edu.au/calendar/edu-dance-13/
CATEGORIES:School Events
END:VEVENT
BEGIN:VEVENT
DTSTART;VALUE=DATE:20250902
DTEND;VALUE=DATE:20250903
DTSTAMP:20260420T112601
CREATED:20250721T041921Z
LAST-MODIFIED:20250721T041921Z
UID:4563-1756771200-1756857599@mullaloobeachps.wa.edu.au
SUMMARY:Edu Dance
DESCRIPTION:
URL:https://mullaloobeachps.wa.edu.au/calendar/edu-dance-12/
CATEGORIES:School Events
END:VEVENT
BEGIN:VEVENT
DTSTART;VALUE=DATE:20250902
DTEND;VALUE=DATE:20250903
DTSTAMP:20260420T112601
CREATED:20250721T041021Z
LAST-MODIFIED:20250721T041021Z
UID:4533-1756771200-1756857599@mullaloobeachps.wa.edu.au
SUMMARY:Choir 08:15am
DESCRIPTION:
URL:https://mullaloobeachps.wa.edu.au/calendar/choir-0815am-15/
CATEGORIES:School Events
END:VEVENT
BEGIN:VEVENT
DTSTART;VALUE=DATE:20250829
DTEND;VALUE=DATE:20250830
DTSTAMP:20260420T112601
CREATED:20250220T003038Z
LAST-MODIFIED:20250821T035341Z
UID:4161-1756425600-1756511999@mullaloobeachps.wa.edu.au
SUMMARY:One Big Voice
DESCRIPTION:One Big Voice 2025
URL:https://mullaloobeachps.wa.edu.au/calendar/one-big-voice/
CATEGORIES:School Events
END:VEVENT
BEGIN:VEVENT
DTSTART;VALUE=DATE:20250826
DTEND;VALUE=DATE:20250827
DTSTAMP:20260420T112601
CREATED:20250721T041902Z
LAST-MODIFIED:20250721T041902Z
UID:4561-1756166400-1756252799@mullaloobeachps.wa.edu.au
SUMMARY:Edu Dance
DESCRIPTION:
URL:https://mullaloobeachps.wa.edu.au/calendar/edu-dance-11/
CATEGORIES:School Events
END:VEVENT
BEGIN:VEVENT
DTSTART;VALUE=DATE:20250826
DTEND;VALUE=DATE:20250827
DTSTAMP:20260420T112601
CREATED:20250721T040957Z
LAST-MODIFIED:20250721T040957Z
UID:4531-1756166400-1756252799@mullaloobeachps.wa.edu.au
SUMMARY:Choir 08:15am
DESCRIPTION:
URL:https://mullaloobeachps.wa.edu.au/calendar/choir-0815am-14/
CATEGORIES:School Events
END:VEVENT
BEGIN:VEVENT
DTSTART;VALUE=DATE:20250825
DTEND;VALUE=DATE:20250826
DTSTAMP:20260420T112601
CREATED:20250721T041841Z
LAST-MODIFIED:20250721T041841Z
UID:4559-1756080000-1756166399@mullaloobeachps.wa.edu.au
SUMMARY:Edu Dance
DESCRIPTION:
URL:https://mullaloobeachps.wa.edu.au/calendar/edu-dance-10/
CATEGORIES:School Events
END:VEVENT
BEGIN:VEVENT
DTSTART;VALUE=DATE:20250822
DTEND;VALUE=DATE:20250823
DTSTAMP:20260420T112601
CREATED:20250721T041708Z
LAST-MODIFIED:20250721T041818Z
UID:4557-1755820800-1755907199@mullaloobeachps.wa.edu.au
SUMMARY:Edu Dance
DESCRIPTION:
URL:https://mullaloobeachps.wa.edu.au/calendar/edu-dance-9/
CATEGORIES:School Events
END:VEVENT
END:VCALENDAR