BEGIN:VCALENDAR
VERSION:2.0
PRODID:-//Mullaloo Beach Primary School - ECPv6.15.17//NONSGML v1.0//EN
CALSCALE:GREGORIAN
METHOD:PUBLISH
X-ORIGINAL-URL:https://mullaloobeachps.wa.edu.au
X-WR-CALDESC:Events for Mullaloo Beach Primary School
REFRESH-INTERVAL;VALUE=DURATION:PT1H
X-Robots-Tag:noindex
X-PUBLISHED-TTL:PT1H
BEGIN:VTIMEZONE
TZID:Australia/Perth
BEGIN:STANDARD
TZOFFSETFROM:+0800
TZOFFSETTO:+0800
TZNAME:AWST
DTSTART:20230101T000000
END:STANDARD
END:VTIMEZONE
BEGIN:VEVENT
DTSTART;TZID=Australia/Perth:20241031T082000
DTEND;TZID=Australia/Perth:20241031T123000
DTSTAMP:20260423T093003
CREATED:20241011T060609Z
LAST-MODIFIED:20241014T042916Z
UID:3604-1730362800-1730377800@mullaloobeachps.wa.edu.au
SUMMARY:NUMERO Competition
DESCRIPTION:NUMERO
URL:https://mullaloobeachps.wa.edu.au/calendar/numero-competition/
LOCATION:Cottesloe Primary School\, 530 Stirling Highway\, Peppermint Grove\, WA\, Australia
CATEGORIES:School Events
END:VEVENT
END:VCALENDAR