BEGIN:VCALENDAR
VERSION:2.0
PRODID:-//Mullaloo Beach Primary School - ECPv6.15.17//NONSGML v1.0//EN
CALSCALE:GREGORIAN
METHOD:PUBLISH
X-WR-CALNAME:Mullaloo Beach Primary School
X-ORIGINAL-URL:https://mullaloobeachps.wa.edu.au
X-WR-CALDESC:Events for Mullaloo Beach Primary School
REFRESH-INTERVAL;VALUE=DURATION:PT1H
X-Robots-Tag:noindex
X-PUBLISHED-TTL:PT1H
BEGIN:VTIMEZONE
TZID:Australia/Perth
BEGIN:STANDARD
TZOFFSETFROM:+0800
TZOFFSETTO:+0800
TZNAME:AWST
DTSTART:20240101T000000
END:STANDARD
END:VTIMEZONE
BEGIN:VEVENT
DTSTART;VALUE=DATE:20250506
DTEND;VALUE=DATE:20250507
DTSTAMP:20260422T060019
CREATED:20250429T080215Z
LAST-MODIFIED:20250429T080254Z
UID:4367-1746489600-1746575999@mullaloobeachps.wa.edu.au
SUMMARY:Choir 0815am
DESCRIPTION:
URL:https://mullaloobeachps.wa.edu.au/calendar/choir-0815am/
CATEGORIES:School Events
END:VEVENT
BEGIN:VEVENT
DTSTART;VALUE=DATE:20250508
DTEND;VALUE=DATE:20250509
DTSTAMP:20260422T060019
CREATED:20250429T033349Z
LAST-MODIFIED:20250505T045927Z
UID:4350-1746662400-1746748799@mullaloobeachps.wa.edu.au
SUMMARY:Running Club 7:30am-8:30am
DESCRIPTION:
URL:https://mullaloobeachps.wa.edu.au/calendar/running-club/
CATEGORIES:School Events
END:VEVENT
BEGIN:VEVENT
DTSTART;VALUE=DATE:20250513
DTEND;VALUE=DATE:20250514
DTSTAMP:20260422T060019
CREATED:20250430T030041Z
LAST-MODIFIED:20250430T030531Z
UID:4369-1747094400-1747180799@mullaloobeachps.wa.edu.au
SUMMARY:Choir 0815am
DESCRIPTION:
URL:https://mullaloobeachps.wa.edu.au/calendar/choir-0815am-2/
CATEGORIES:School Events
END:VEVENT
BEGIN:VEVENT
DTSTART;VALUE=DATE:20250515
DTEND;VALUE=DATE:20250516
DTSTAMP:20260422T060019
CREATED:20250429T033802Z
LAST-MODIFIED:20250505T050036Z
UID:4352-1747267200-1747353599@mullaloobeachps.wa.edu.au
SUMMARY:Running Club 7:30am-8:30am
DESCRIPTION:
URL:https://mullaloobeachps.wa.edu.au/calendar/running-club-2/
CATEGORIES:School Events
END:VEVENT
BEGIN:VEVENT
DTSTART;VALUE=DATE:20250520
DTEND;VALUE=DATE:20250521
DTSTAMP:20260422T060019
CREATED:20250430T030108Z
LAST-MODIFIED:20250430T030108Z
UID:4371-1747699200-1747785599@mullaloobeachps.wa.edu.au
SUMMARY:Choir 0815am
DESCRIPTION:
URL:https://mullaloobeachps.wa.edu.au/calendar/choir-0815am-3/
CATEGORIES:School Events
END:VEVENT
BEGIN:VEVENT
DTSTART;VALUE=DATE:20250522
DTEND;VALUE=DATE:20250523
DTSTAMP:20260422T060019
CREATED:20250429T033833Z
LAST-MODIFIED:20250505T050125Z
UID:4354-1747872000-1747958399@mullaloobeachps.wa.edu.au
SUMMARY:Running Club 7:30am-8:30am
DESCRIPTION:
URL:https://mullaloobeachps.wa.edu.au/calendar/running-club-3/
CATEGORIES:School Events
END:VEVENT
BEGIN:VEVENT
DTSTART;VALUE=DATE:20250527
DTEND;VALUE=DATE:20250528
DTSTAMP:20260422T060019
CREATED:20250430T031258Z
LAST-MODIFIED:20250430T031258Z
UID:4379-1748304000-1748390399@mullaloobeachps.wa.edu.au
SUMMARY:Choir 0815am
DESCRIPTION:
URL:https://mullaloobeachps.wa.edu.au/calendar/choir-0815am-4/
CATEGORIES:School Events
END:VEVENT
BEGIN:VEVENT
DTSTART;VALUE=DATE:20250529
DTEND;VALUE=DATE:20250530
DTSTAMP:20260422T060019
CREATED:20250429T033900Z
LAST-MODIFIED:20250505T050244Z
UID:4356-1748476800-1748563199@mullaloobeachps.wa.edu.au
SUMMARY:Running Club 7:30am-8:30am
DESCRIPTION:
URL:https://mullaloobeachps.wa.edu.au/calendar/running-club-4/
CATEGORIES:School Events
END:VEVENT
END:VCALENDAR