BEGIN:VCALENDAR
VERSION:2.0
PRODID:-//Mullaloo Beach Primary School - ECPv6.15.17//NONSGML v1.0//EN
CALSCALE:GREGORIAN
METHOD:PUBLISH
X-WR-CALNAME:Mullaloo Beach Primary School
X-ORIGINAL-URL:https://mullaloobeachps.wa.edu.au
X-WR-CALDESC:Events for Mullaloo Beach Primary School
REFRESH-INTERVAL;VALUE=DURATION:PT1H
X-Robots-Tag:noindex
X-PUBLISHED-TTL:PT1H
BEGIN:VTIMEZONE
TZID:Australia/Perth
BEGIN:STANDARD
TZOFFSETFROM:+0800
TZOFFSETTO:+0800
TZNAME:AWST
DTSTART:20240101T000000
END:STANDARD
END:VTIMEZONE
BEGIN:VEVENT
DTSTART;TZID=Australia/Perth:20250408T090000
DTEND;TZID=Australia/Perth:20250408T093000
DTSTAMP:20260422T100813
CREATED:20250225T072756Z
LAST-MODIFIED:20250225T072756Z
UID:4196-1744102800-1744104600@mullaloobeachps.wa.edu.au
SUMMARY:Anzac Day Service
DESCRIPTION:
URL:https://mullaloobeachps.wa.edu.au/calendar/anzac-day-service/
CATEGORIES:School Events
END:VEVENT
BEGIN:VEVENT
DTSTART;TZID=Australia/Perth:20250411T084500
DTEND;TZID=Australia/Perth:20250411T090000
DTSTAMP:20260422T100813
CREATED:20250225T072844Z
LAST-MODIFIED:20250225T072844Z
UID:4198-1744361100-1744362000@mullaloobeachps.wa.edu.au
SUMMARY:Easter Hat Parade
DESCRIPTION:
URL:https://mullaloobeachps.wa.edu.au/calendar/easter-hat-parade/
CATEGORIES:School Events
END:VEVENT
END:VCALENDAR