BEGIN:VCALENDAR
VERSION:2.0
PRODID:-//Mullaloo Beach Primary School - ECPv6.15.17//NONSGML v1.0//EN
CALSCALE:GREGORIAN
METHOD:PUBLISH
X-WR-CALNAME:Mullaloo Beach Primary School
X-ORIGINAL-URL:https://mullaloobeachps.wa.edu.au
X-WR-CALDESC:Events for Mullaloo Beach Primary School
REFRESH-INTERVAL;VALUE=DURATION:PT1H
X-Robots-Tag:noindex
X-PUBLISHED-TTL:PT1H
BEGIN:VTIMEZONE
TZID:Australia/Perth
BEGIN:STANDARD
TZOFFSETFROM:+0800
TZOFFSETTO:+0800
TZNAME:AWST
DTSTART:20250101T000000
END:STANDARD
END:VTIMEZONE
BEGIN:VEVENT
DTSTART;VALUE=DATE:20260202
DTEND;VALUE=DATE:20260205
DTSTAMP:20260421T111106
CREATED:20251215T045818Z
LAST-MODIFIED:20251215T045818Z
UID:4910-1769990400-1770249599@mullaloobeachps.wa.edu.au
SUMMARY:Kindy Blue days
DESCRIPTION:
URL:https://mullaloobeachps.wa.edu.au/calendar/kindy-blue-days/
CATEGORIES:Kindy Blue
END:VEVENT
BEGIN:VEVENT
DTSTART;VALUE=DATE:20260209
DTEND;VALUE=DATE:20260211
DTSTAMP:20260421T111106
CREATED:20251215T045857Z
LAST-MODIFIED:20251215T045857Z
UID:4912-1770595200-1770767999@mullaloobeachps.wa.edu.au
SUMMARY:Kindy Blue days
DESCRIPTION:
URL:https://mullaloobeachps.wa.edu.au/calendar/kindy-blue-days-2/
CATEGORIES:Kindy Blue
END:VEVENT
BEGIN:VEVENT
DTSTART;VALUE=DATE:20260216
DTEND;VALUE=DATE:20260219
DTSTAMP:20260421T111106
CREATED:20251215T050427Z
LAST-MODIFIED:20251215T050427Z
UID:4914-1771200000-1771459199@mullaloobeachps.wa.edu.au
SUMMARY:Kindy Blue days
DESCRIPTION:
URL:https://mullaloobeachps.wa.edu.au/calendar/kindy-blue-days-3/
CATEGORIES:Kindy Blue
END:VEVENT
BEGIN:VEVENT
DTSTART;VALUE=DATE:20260223
DTEND;VALUE=DATE:20260225
DTSTAMP:20260421T111106
CREATED:20251215T050452Z
LAST-MODIFIED:20251215T050452Z
UID:4916-1771804800-1771977599@mullaloobeachps.wa.edu.au
SUMMARY:Kindy Blue days
DESCRIPTION:
URL:https://mullaloobeachps.wa.edu.au/calendar/kindy-blue-days-4/
CATEGORIES:Kindy Blue
END:VEVENT
END:VCALENDAR