BEGIN:VCALENDAR
VERSION:2.0
PRODID:-//Mullaloo Beach Primary School - ECPv6.15.17//NONSGML v1.0//EN
CALSCALE:GREGORIAN
METHOD:PUBLISH
X-WR-CALNAME:Mullaloo Beach Primary School
X-ORIGINAL-URL:https://mullaloobeachps.wa.edu.au
X-WR-CALDESC:Events for Mullaloo Beach Primary School
REFRESH-INTERVAL;VALUE=DURATION:PT1H
X-Robots-Tag:noindex
X-PUBLISHED-TTL:PT1H
BEGIN:VTIMEZONE
TZID:Australia/Perth
BEGIN:STANDARD
TZOFFSETFROM:+0800
TZOFFSETTO:+0800
TZNAME:AWST
DTSTART:20230101T000000
END:STANDARD
END:VTIMEZONE
BEGIN:VEVENT
DTSTART;VALUE=DATE:20241021
DTEND;VALUE=DATE:20241024
DTSTAMP:20260420T201940
CREATED:20241011T064100Z
LAST-MODIFIED:20241011T064100Z
UID:3638-1729468800-1729727999@mullaloobeachps.wa.edu.au
SUMMARY:Kindy Blue
DESCRIPTION:
URL:https://mullaloobeachps.wa.edu.au/calendar/kindy-blue-3/
CATEGORIES:Kindy Blue
END:VEVENT
BEGIN:VEVENT
DTSTART;TZID=Australia/Perth:20241023T090000
DTEND;TZID=Australia/Perth:20241023T100000
DTSTAMP:20260420T201940
CREATED:20241011T041532Z
LAST-MODIFIED:20241011T041532Z
UID:3586-1729674000-1729677600@mullaloobeachps.wa.edu.au
SUMMARY:Three's By The Sea
DESCRIPTION:Come and meet the Kindy team and start your journey at Mullaloo Beach PS.\nChildren who attend Three’s by the Sea can have the opportunity to become familiar with the school\, teachers\, fellow students and meet the school’s student services team. \nWhere: Kindy room\nTime: 9.00- 10.00am
URL:https://mullaloobeachps.wa.edu.au/calendar/threes-by-the-sea/
CATEGORIES:School Events
END:VEVENT
BEGIN:VEVENT
DTSTART;TZID=Australia/Perth:20241023T180000
DTEND;TZID=Australia/Perth:20241023T190000
DTSTAMP:20260420T201940
CREATED:20241011T063533Z
LAST-MODIFIED:20241014T004510Z
UID:3630-1729706400-1729710000@mullaloobeachps.wa.edu.au
SUMMARY:School Board Meeting
DESCRIPTION:
URL:https://mullaloobeachps.wa.edu.au/calendar/school-board-meeting/
CATEGORIES:P&C and Board Meetings
END:VEVENT
END:VCALENDAR